Workbook

Sheet 附件1汇总简表 
A1: 附件1
A2: 2026年省级水利建设和发展专项资金（第一批水利发展）汇总表
L3: 单位：万元
A4: 地 区 | B4: 合计 | C4: 农村水利与水土保持 | D4: 水利工程维修养护 | E4: 水文设施维修养护 | F4: 河湖管理与保护 | G4: 长江河道监测 | H4: 水资源管理与保 护 | I4: 节约用水管理 | J4: 河湖采砂及水行政执法管理 | K4: 水旱灾害防御 | L4: 南水北调水费奖补
A5: 合 计 | B5: =SUM(C5:L5) -> 132353 | C5: =C7+C75 -> 38520 | D5: =D7+D75 -> 45229 | E5: =E7+E75 -> 4000 | F5: =F7+F75 -> 13300 | G5: =G7+G75 -> 1000 | H5: =H7+H75 -> 6739 | I5: =I7+I75 -> 3500 | J5: =J7+J75 -> 3000 | ... L5: =L7+L75 -> 10548
A6: 支出科目
A7: 市县小计 | B7: =SUM(C7:L7) -> 95966 | C7: =SUM(C8,C10,C14,C21,C24,C30,C36,C41,C46,C54,C59,C64,C69) -> 36961 | D7: =SUM(D8,D10,D14,D21,D24,D30,D36,D41,D46,D54,D59,D64,D69) -> 26528 | E7: =SUM(E8,E10,E14,E21,E24,E30,E36,E41,E46,E54,E59,E64,E69) -> 0 | F7: =SUM(F8,F10,F14,F21,F24,F30,F36,F41,F46,F54,F59,F64,F69) -> 9400 | G7: =SUM(G8,G10,G14,G21,G24,G30,G36,G41,G46,G54,G59,G64,G69) -> 420 | H7: =SUM(H8,H10,H14,H21,H24,H30,H36,H41,H46,H54,H59,H64,H69) -> 2640 | I7: =SUM(I8,I10,I14,I21,I24,I30,I36,I41,I46,I54,I59,I64,I69) -> 3000 | J7: =SUM(J8,J10,J14,J21,J24,J30,J36,J41,J46,J54,J59,J64,J69) -> 2412 | ... L7: =SUM(L8,L10,L14,L21,L24,L30,L36,L41,L46,L54,L59,L64,L69) -> 10548
A8: 南京市 | B8: =SUM(C8:L8) -> 9310 | C8: =SUM(C9) -> 4702 | D8: =SUM(D9) -> 3523 | E8: =SUM(E9) -> 0 | F8: =SUM(F9) -> 66 | G8: =SUM(G9) -> 0 | H8: =SUM(H9) -> 180 | I8: =SUM(I9) -> 245 | J8: =SUM(J9) -> 217 | ... L8: =SUM(L9) -> 0
A9: 南京市本级 | B9: =SUM(C9:L9) -> 9310 | C9: ='附件3-1-1'!B8 -> 4702 | D9: ='附件3-2-1'!B6 -> 3523 | F9: ='附件3-4-1'!B7 -> 66 | H9: ='附件3-6'!B7 -> 180 | I9: ='附件3-7'!B7 -> 245 | J9: ='附件3-8-1'!B7 -> 217 | K9: =SUM('附件3-9'!G7) -> 377
A10: 无锡市 | B10: =SUM(C10:L10) -> 2738 | C10: =SUM(C11:C13) -> 649 | D10: =SUM(D11:D13) -> 1089 | E10: =SUM(E11:E13) -> 0 | F10: =SUM(F11:F13) -> 84 | G10: =SUM(G11:G13) -> 0 | H10: =SUM(H11:H13) -> 170 | I10: =SUM(I11:I13) -> 360 | J10: =SUM(J11:J13) -> 357 | ... L10: =SUM(L11:L13) -> 0
A11: 无锡市本级 | B11: =SUM(C11:L11) -> 941 | C11: =SUM('附件3-1-1'!B17:B19) -> 270 | D11: ='附件3-2-1'!B14 -> 290 | F11: ='附件3-4-1'!B16+'附件3-4-1'!B17+'附件3-4-1'!B18+'附件3-4-1'!B19 -> 40 | H11: =SUM('附件3-6'!B11:B12) -> 110 | I11: ='附件3-7'!B18+'附件3-7'!B19+'附件3-7'!B20+'附件3-7'!B21+'附件3-7'!B22 -> 160 | J11: =SUM('附件3-8-1'!B11:B14) -> 71
A12: 江阴市 | B12: =SUM(C12:L12) -> 647 | C12: ='附件3-1-1'!B20 -> 266 | D12: ='附件3-2-1'!B15 -> 146 | F12: ='附件3-4-1'!B20 -> 15 | H12: =SUM('附件3-6'!B13) -> 40 | I12: ='附件3-7'!B23 -> 0 | J12: =SUM('附件3-8-1'!B15) -> 176 | K12: =SUM('附件3-9'!G18) -> 4
A13: 宜兴市 | B13: =SUM(C13:L13) -> 1150 | C13: ='附件3-1-1'!B21 -> 113 | D13: ='附件3-2-1'!B16 -> 653 | F13: ='附件3-4-1'!B21 -> 29 | H13: =SUM('附件3-6'!B14) -> 20 | I13: ='附件3-7'!B24 -> 200 | J13: =SUM('附件3-8-1'!B16) -> 110 | K13: =SUM('附件3-9'!G19:G20) -> 25
A14: 徐州市 | B14: =SUM(C14:L14) -> 11933 | C14: =SUM(C15:C20) -> 4182 | D14: =SUM(D15:D20) -> 2641 | E14: =SUM(E15:E20) -> 0 | F14: =SUM(F15:F20) -> 66 | G14: =SUM(G15:G20) -> 0 | H14: =SUM(H15:H20) -> 279 | I14: =SUM(I15:I20) -> 61 | J14: =SUM(J15:J20) -> 382 | ... L14: =SUM(L15:L20) -> 2973
A15: 徐州市本级 | B15: =SUM(C15:L15) -> 3596 | C15: =SUM('附件3-1-1'!B23:B27) -> 635 | D15: ='附件3-2-1'!B18+'附件3-2-1'!B19+'附件3-2-1'!B20 -> 1557 | F15: =SUM('附件3-4-1'!B23:B24) -> 14 | H15: =SUM('附件3-6'!B16:B17) -> 190 | I15: ='附件3-7'!B26+'附件3-7'!B27+'附件3-7'!B28 -> 59 | J15: =SUM('附件3-8-1'!B18:B24) -> 225 | K15: =SUM('附件3-9'!G22:G23) -> 8 | L15: ='附件3-10'!E7 -> 908
A16: 丰县 | B16: =SUM(C16:L16) -> 780 | C16: ='附件3-1-1'!B28 -> 359 | D16: ='附件3-2-1'!B21 -> 55 | F16: =SUM('附件3-4-1'!B25) -> 2 | H16: =SUM('附件3-6'!B18) -> 50 | I16: ='附件3-7'!B29 -> 2 | J16: =SUM('附件3-8-1'!B25) -> 8 | L16: ='附件3-10'!E11 -> 304
A17: 沛县 | B17: =SUM(C17:L17) -> 986 | C17: ='附件3-1-1'!B29 -> 426 | D17: ='附件3-2-1'!B22 -> 67 | F17: =SUM('附件3-4-1'!B26) -> 2 | H17: =SUM('附件3-6'!B19) -> 39 | I17: ='附件3-7'!B30 -> 0 | J17: =SUM('附件3-8-1'!B26) -> 48 | K17: ='附件3-9'!G24 -> 2 | L17: ='附件3-10'!E12 -> 402
A18: 睢宁县 | B18: =SUM(C18:L18) -> 1568 | C18: ='附件3-1-1'!B30 -> 766 | D18: ='附件3-2-1'!B23 -> 364 | F18: =SUM('附件3-4-1'!B27) -> 7 | I18: ='附件3-7'!B31 -> 0 | J18: =SUM('附件3-8-1'!B27) -> 8 | K18: =SUM('附件3-9'!G25:G26) -> 12 | L18: ='附件3-10'!E13 -> 411
A19: 邳州市 | B19: =SUM(C19:L19) -> 2580 | C19: ='附件3-1-1'!B31 -> 1139 | D19: ='附件3-2-1'!B24 -> 198 | F19: =SUM('附件3-4-1'!B28) -> 26 | I19: ='附件3-7'!B32 -> 0 | J19: =SUM('附件3-8-1'!B28) -> 15 | K19: =SUM('附件3-9'!G27:G28) -> 726 | L19: ='附件3-10'!E14 -> 476
A20: 新沂市 | B20: =SUM(C20:L20) -> 2423 | C20: ='附件3-1-1'!B32 -> 857 | D20: ='附件3-2-1'!B25 -> 400 | F20: =SUM('附件3-4-1'!B29) -> 15 | I20: ='附件3-7'!B33 -> 0 | J20: =SUM('附件3-8-1'!B29) -> 78 | K20: =SUM('附件3-9'!G29:G31) -> 601 | L20: ='附件3-10'!E15 -> 472
A21: 常州市 | B21: =SUM(C21:L21) -> 3056 | C21: =SUM(C22:C23) -> 992 | D21: =SUM(D22:D23) -> 1540 | E21: =SUM(E22:E23) -> 0 | F21: =SUM(F22:F23) -> 55 | G21: =SUM(G22:G23) -> 14 | H21: =SUM(H22:H23) -> 200 | I21: =SUM(I22:I23) -> 161 | J21: =SUM(J22:J23) -> 92 | ... L21: =SUM(L22:L23) -> 0
A22: 常州市本级 | B22: =SUM(C22:L22) -> 1726 | C22: =SUM('附件3-1-1'!B34:B38) -> 247 | D22: ='附件3-2-1'!B27+'附件3-2-1'!B28+'附件3-2-1'!B29 -> 1035 | F22: =SUM('附件3-4-1'!B31:B35) -> 45 | G22: ='附件3-5'!C8 -> 14 | H22: =SUM('附件3-6'!B21:B22) -> 180 | I22: =SUM('附件3-7'!B35:B39) -> 161 | J22: =SUM('附件3-8-1'!B31:B33) -> 42 | K22: =SUM('附件3-9'!G33:G34) -> 2
A23: 溧阳市 | B23: =SUM(C23:L23) -> 1330 | C23: ='附件3-1-1'!B39 -> 745 | D23: ='附件3-2-1'!B30 -> 505 | F23: ='附件3-4-1'!B36 -> 10 | H23: =SUM('附件3-6'!B23) -> 20 | I23: =SUM('附件3-7'!B40) -> 0 | J23: =SUM('附件3-8-1'!B34) -> 50
A24: 苏州市 | B24: =SUM(C24:L24) -> 3447 | C24: =SUM(C25:C29) -> 1172 | D24: =SUM(D25:D29) -> 1091 | E24: =SUM(E25:E29) -> 0 | F24: =SUM(F25:F29) -> 147 | G24: =SUM(G25:G29) -> 105 | H24: =SUM(H25:H29) -> 200 | I24: =SUM(I25:I29) -> 584 | J24: =SUM(J25:J29) -> 37 | ... L24: =SUM(L25:L29) -> 0
A25: 苏州市本级 | B25: =SUM(C25:L25) -> 996 | C25: =SUM('附件3-1-1'!B41:B43) -> 172 | D25: ='附件3-2-1'!B32 -> 375 | F25: =SUM('附件3-4-1'!B38:B41) -> 98 | H25: =SUM('附件3-6'!B25) -> 120 | I25: =SUM('附件3-7'!B42:B45) -> 221 | K25: =SUM('附件3-9'!G36) -> 10
A26: 张家港市 | B26: =SUM(C26:L26) -> 760 | C26: ='附件3-1-1'!B44 -> 70 | D26: ='附件3-2-1'!B33 -> 425 | F26: ='附件3-4-1'!B42 -> 6 | G26: ='附件3-5'!C10 -> 25 | H26: =SUM('附件3-6'!B26) -> 20 | I26: =SUM('附件3-7'!B46) -> 193 | J26: =SUM('附件3-8-1'!B36) -> 21
A27: 常熟市 | B27: =SUM(C27:L27) -> 882 | C27: ='附件3-1-1'!B45 -> 500 | D27: ='附件3-2-1'!B34 -> 148 | F27: ='附件3-4-1'!B43 -> 17 | G27: ='附件3-5'!C11 -> 16 | H27: =SUM('附件3-6'!B27) -> 60 | I27: =SUM('附件3-7'!B47) -> 33 | J27: =SUM('附件3-8-1'!B37) -> 8 | K27: ='附件3-9'!G37 -> 100
A28: 太仓市 | B28: =SUM(C28:L28) -> 592 | C28: ='附件3-1-1'!B46 -> 346 | D28: ='附件3-2-1'!B35 -> 108 | F28: ='附件3-4-1'!B44 -> 10 | G28: ='附件3-5'!C12 -> 64 | I28: =SUM('附件3-7'!B48) -> 55 | J28: =SUM('附件3-8-1'!B38) -> 8 | K28: ='附件3-9'!G38 -> 1
A29: 昆山市 | B29: =SUM(C29:L29) -> 217 | C29: ='附件3-1-1'!B47 -> 84 | D29: ='附件3-2-1'!B36 -> 35 | F29: ='附件3-4-1'!B45 -> 16 | I29: =SUM('附件3-7'!B49) -> 82
A30: 南通市 | B30: =SUM(C30:L30) -> 4543 | C30: =SUM(C31:C35) -> 2335 | D30: =SUM(D31:D35) -> 1112 | E30: =SUM(E31:E35) -> 0 | F30: =SUM(F31:F35) -> 25 | G30: =SUM(G31:G35) -> 56 | H30: =SUM(H31:H35) -> 237 | I30: =SUM(I31:I35) -> 282 | J30: =SUM(J31:J35) -> 321 | ... L30: =SUM(L31:L35) -> 0
A31: 南通市本级 | B31: =SUM(C31:L31) -> 1919 | C31: ='附件3-1-1'!B49+'附件3-1-1'!B50 -> 590 | D31: ='附件3-2-1'!B38+'附件3-2-1'!B39 -> 472 | F31: ='附件3-4-1'!B47+'附件3-4-1'!B48+'附件3-4-1'!B49 -> 9 | G31: ='附件3-5'!C14 -> 40 | H31: =SUM('附件3-6'!B29) -> 120 | I31: =SUM('附件3-7'!B51:B54) -> 256 | J31: =SUM('附件3-8-1'!B40:B42) -> 279 | K31: =SUM('附件3-9'!G40:G42) -> 153
A32: 海安市 | B32: =SUM(C32:L32) -> 387 | C32: ='附件3-1-1'!B51 -> 233 | D32: ='附件3-2-1'!B40 -> 90 | F32: ='附件3-4-1'!B50 -> 8 | H32: =SUM('附件3-6'!B30) -> 17 | I32: =SUM('附件3-7'!C55) -> 26 | J32: =SUM('附件3-8-1'!B43) -> 10 | K32: =SUM('附件3-9'!G43) -> 3
A33: 如皋市 | B33: =SUM(C33:L33) -> 747 | C33: ='附件3-1-1'!B52 -> 466 | D33: ='附件3-2-1'!B41 -> 174 | F33: ='附件3-4-1'!B51 -> 3 | G33: ='附件3-5'!C15 -> 16 | H33: =SUM('附件3-6'!B31) -> 65 | I33: =SUM('附件3-7'!C56) -> 0 | J33: =SUM('附件3-8-1'!B44) -> 11 | K33: =SUM('附件3-9'!G44:G45) -> 12
A34: 如东县 | B34: =SUM(C34:L34) -> 1022 | C34: ='附件3-1-1'!B53 -> 785 | D34: ='附件3-2-1'!B42 -> 192 | H34: =SUM('附件3-6'!B32) -> 35 | I34: =SUM('附件3-7'!C57) -> 0 | J34: =SUM('附件3-8-1'!B45) -> 8 | K34: =SUM('附件3-9'!G46) -> 2
A35: 启东市 | B35: =SUM(C35:L35) -> 468 | C35: ='附件3-1-1'!B54 -> 261 | D35: ='附件3-2-1'!B43 -> 184 | F35: ='附件3-4-1'!B52 -> 5 | I35: =SUM('附件3-7'!C58) -> 0 | J35: =SUM('附件3-8-1'!B46) -> 13 | K35: =SUM('附件3-9'!G47) -> 5
A36: 连云港市 | B36: =SUM(C36:L36) -> 14597 | C36: =SUM(C37:C40) -> 5167 | D36: =SUM(D37:D40) -> 6682 | E36: =SUM(E37:E40) -> 0 | F36: =SUM(F37:F40) -> 40 | G36: =SUM(G37:G40) -> 0 | H36: =SUM(H37:H40) -> 150 | I36: =SUM(I37:I40) -> 240 | J36: =SUM(J37:J40) -> 62 | ... L36: =SUM(L37:L40) -> 1985
A37: 连云港市本级 | B37: =SUM(C37:L37) -> 7841 | C37: =SUM('附件3-1-1'!B56:B59) -> 2237 | D37: ='附件3-2-1'!B45+'附件3-2-1'!B46+'附件3-2-1'!B47 -> 4062 | F37: =SUM('附件3-4-1'!B54:B56) -> 19 | H37: =SUM('附件3-6'!B34) -> 140 | I37: =SUM('附件3-7'!B60:B63) -> 240 | J37: =SUM('附件3-8-1'!B48:B49) -> 29 | K37: =SUM('附件3-9'!G49:G53) -> 264 | L37: ='附件3-10'!E17 -> 850
A38: 东海县 | B38: =SUM(C38:L38) -> 2936 | C38: ='附件3-1-1'!B60 -> 704 | D38: ='附件3-2-1'!B48 -> 1734 | F38: =SUM('附件3-4-1'!B57) -> 3 | I38: =SUM('附件3-7'!B64) -> 0 | J38: =SUM('附件3-8-1'!B50) -> 8 | K38: =SUM('附件3-9'!G54:G54) -> 3 | L38: ='附件3-10'!E25 -> 484
A39: 灌云县 | B39: =SUM(C39:L39) -> 3114 | C39: ='附件3-1-1'!B61 -> 2020 | D39: ='附件3-2-1'!B49 -> 702 | F39: ='附件3-4-1'!B58 -> 10 | H39: =SUM('附件3-6'!B35) -> 10 | I39: =SUM('附件3-7'!B65) -> 0 | J39: =SUM('附件3-8-1'!B51) -> 10 | K39: =SUM('附件3-9'!G55) -> 1 | L39: ='附件3-10'!E26 -> 361
A40: 灌南县 | B40: =SUM(C40:L40) -> 706 | C40: ='附件3-1-1'!B62 -> 206 | D40: ='附件3-2-1'!B50 -> 184 | F40: ='附件3-4-1'!B59 -> 8 | I40: =SUM('附件3-7'!B66) -> 0 | J40: =SUM('附件3-8-1'!B52) -> 15 | K40: =SUM('附件3-9'!G56) -> 3 | L40: ='附件3-10'!E27 -> 290
...

Sheet 附件2-1
A1: 附件2-1
A2: 2026年省级水利建设和发展专项资金（第一批水利发展）任务清单（市县）
A3: 地 区 | B3: 墉坝险 险加固 （座） | C3: 农村供水管 网更新改造 （公里） | D3: 新改扩 建水厂 （座） | E3: 水土流失 治理面积 （K㎡） | F3: 水利工程维修养护 | G3: 河湖管理与保护 | H3: 长江河道 监测
A4: 全省合计 | B4: =SUM(B5,B14,B21,B30,B38,B47,B55,B62,B71,B82,B90,B96,B104) -> 25 | C4: =SUM(C5,C14,C21,C30,C38,C47,C55,C62,C71,C82,C90,C96,C104) -> 1046.64 | D4: =SUM(D5,D14,D21,D30,D38,D47,D55,D62,D71,D82,D90,D96,D104) -> 4 | E4: =SUM(E5,E14,E21,E30,E38,E47,E55,E62,E71,E82,E90,E96,E104) -> 42
A5: 南京市 | B5: =SUM(B6:B13) -> 16 | C5: =SUM(C6:C13) -> 280 | D5: =SUM(D6:D13) -> 0 | E5: =SUM(E6:E13) -> 4.8
A6: 南京市本级 | F6: 名录内水利工程维修养护；9座小水库管护 | G6: 流域性河湖监督巡查处置， 漂浮物打捞
A7: 江宁区 | B7: 2 | C7: 5.35 | F7: 名录内水利工程维修养护；110座小水库管护；二类坝小水库消险 | G7: 流域性河湖监督巡查处置
A8: 浦口区 | C8: 13.5 | F8: 名录内水利工程维修养护；27座小水库管护；二类坝小水库消险 | G8: 流域性河湖监督巡查处置
A9: 六合区 | B9: 8 | C9: 255.15 | E9: 3.2 | F9: 名录内水利工程维修养护；91座小水库管护；二类坝小水库消险 | G9: 流域性河湖监督巡查处置
A10: 溧水区 | B10: 4 | E10: 1.6 | F10: 名录内水利工程维修养护；95座小水库管护；二类坝小水库消险 | G10: 流域性河湖监督巡查处置
A11: 高淳区 | B11: 2 | C11: 6 | F11: 名录内水利工程维修养护；15座小水库管护 | G11: 流域性河湖监督巡查处置
A12: 栖霞区
A13: 江北新区
A14: 无锡市 | B14: =SUM(B15:B20) -> 0 | C14: =SUM(C15:C20) -> 0 | D14: =SUM(D15:D20) -> 0 | E14: =SUM(E15:E20) -> 3.2
A15: 无锡市本级 | F15: 名录内水利工程维修养护； | G15: 流域性河湖监督巡查处置， 漂浮物打捞
A16: 锡山区
A17: 惠山区 | E17: 1.6
A18: 滨湖区
A19: 江阴市 | E19: 1.6 | F19: 名录内水利工程维修养护； | G19: 流域性河湖监督巡查处置， 漂浮物打捞
A20: 宜兴市 | F20: 名录内水利工程维修养护；22座小水库管护；二类坝小水库消险；横山水库“三个大坝”试点 | G20: 流域性河湖监督巡查处置， 漂浮物打捞
A21: 徐州市 | B21: =SUM(B22:B29) -> 1 | C21: =SUM(C22:C29) -> 200.1 | D21: =SUM(D22:D29) -> 0 | E21: =SUM(E22:E29) -> 2.1
A22: 徐州市本级 | F22: 名录内水利工程维修养护；8座小水库管护；尾水导流工程维修养护 | G22: 流域性河湖监督巡查处置
A23: 铜山区 | F23: 名录内水利工程维修养护；18座小水库管护；二类坝小水库消险；尾水导流工程维修养护 | G23: 流域性河湖监督巡查处置
A24: 贾汪区 | C24: 2.3 | F24: 名录内水利工程维修养护；10座小水库管护；尾水导流工程维修养护 | G24: 流域性河湖监督巡查处置
A25: 丰县 | F25: 名录内水利工程维修养护；1座小水库管护；尾水导流工程维修养护 | G25: 省际河道监督巡查处置
A26: 沛县 | F26: 名录内水利工程维修养护；尾水导流工程维修养护 | G26: 流域性河湖监督巡查处置
A27: 睢宁县 | C27: 79 | F27: 名录内水利工程维修养护；6座小水库管护；二类坝小水库消险；尾水导流工程维修养护 | G27: 流域性河湖监督巡查处置
A28: 邳州市 | E28: 2.1 | F28: 名录内水利工程维修养护；5座小水库管护；尾水导流工程维修养护 | G28: 流域性河湖监督巡查处置
A29: 新沂市 | B29: 1 | C29: 118.8 | F29: 名录内水利工程维修养护；27座小水库管护；尾水导流工程维修养护 | G29: 流域性河湖监督巡查处置
A30: 常州市 | B30: =SUM(B31:B37) -> 1 | C30: =SUM(C31:C37) -> 40 | D30: =SUM(D31:D37) -> 0 | E30: =SUM(E31:E37) -> 2.9
A31: 常州市本级 | F31: 名录内水利工程维修养护 | G31: 流域性河湖监督巡查处置 | H31: 长江河道重点岸段监测
A32: 金坛区 | F32: 名录内水利工程维修养护；33座小水库管护；二类坝小水库消险 | G32: 流域性河湖监督巡查处置， 漂浮物打捞
A33: 武进区 | F33: 名录内水利工程维修养护；1座小水库管护 | G33: 流域性河湖监督巡查处置， 漂浮物打捞
A34: 新北区 | G34: 流域性河湖监督巡查处置
A35: 天宁区
A36: 钟楼区
A37: 溧阳市 | B37: 1 | C37: 40 | E37: 2.9 | F37: 名录内水利工程维修养护；94座小水库管护；二类坝小水库消险 | G37: 流域性河湖监督巡查处置， 漂浮物打捞
A38: 苏州市 | B38: =SUM(B39:B46) -> 0 | C38: =SUM(C39:C46) -> 20 | D38: =SUM(D39:D46) -> 0 | E38: =SUM(E39:E46) -> 3.2
A39: 苏州市本级 | F39: 名录内水利工程维修养护 | G39: 流域性河湖监督巡查处置； 漂浮物打捞
A40: 吴江区 | C40: 3
...

Sheet 附件2-2
A1: 附件2-2
A2: 2026年省级水利建设和发展专项资金（第一批水利发展）任务清单（市县）
A3: 地 区 | B3: 水资源管理与保护 | C3: 节约用水管理 | D3: 河湖采砂及水行政执法管理 | E3: 水旱灾害防御
A4: 全省合计
A5: 南京市
A6: 南京市本级 | B6: 水资源管理与保护工作； 秦淮区母亲河复苏行动； 地下水储备制度落实 | C6: 节水管理， 1个水效提升项目 | D6: 水行政执法和长江采砂管理，购置执法装备，执法船运维等；长江采砂管理长江航运公安局南京分局、南京市公安局水上分局协作等 | E6: 外秦淮河左岸扫帚巷段堤防消险工程；全省特大暴雨城市防洪避险预案修编审查；省级防汛块石保管
A7: 江宁区 | B7: 地下水储备制度落实 | D7: 水行政执法和长江采砂管理，维护保养执法船(含省砂管局执法船)；采砂船指定停靠点监管；建造执法趸船等 | E7: 句容河赤山桥上游右岸堤防消险工程
A8: 浦口区 | E8: 全省小型水库防汛抢险应急预案修编审查
A9: 六合区
A10: 溧水区 | E10: 方便水库、中山水库旱限水位核定；省级防汛块石保管
A11: 高淳区 | E11: 省级防汛块石及砼块保管
A12: 栖霞区 | E12: 省级防汛块石及砼块保管
A13: 江北新区 | C13: 1个水效提升项目
A14: 无锡市
A15: 无锡市本级 | B15: 水资源管理与保护工作 | C15: 节水管理， 1个水效提升项目 | D15: 水行政执法和长江采砂管理，购置执法装备，执法船运维等，长江疏浚采砂项目综合利用现场监管等
A16: 锡山区 | B16: 地下水储备制度落实 | C16: 1个水效提升项目 | D16: 水行政执法等
A17: 惠山区 | D17: 水行政执法等
A18: 滨湖区 | D18: 水行政执法等
A19: 江阴市 | B19: 母亲河复苏行动 | D19: 长江采砂管理，购置执法装备，执法船运维等；长江疏浚采砂项目综合利用现场监管；采砂船指定停靠点监管；执法基地迁址新建等 | E19: 省级防汛块石保管
A20: 宜兴市 | B20: 地热水更新能力调查与分析 | C20: 节水产业园工作，1个水效提升项目 | D20: 水行政执法，建造执法船等 | E20: 油车水库旱限水位核定；全省大中型水库防汛抢险应急预案修编审查
A21: 徐州市
A22: 徐州市本级 | B22: 水资源管理与保护工作； 母亲河复苏行动； 南四湖流域水资源配置论证 | C22: 节水管理， 1个水效提升项目 | D22: 水行政执法，建设执法基地等 | E22: 省级水旱灾害防御物资管理及防汛块石保管
A23: 铜山区 | B23: 地下水超采综合治理 | D23: 水行政执法，执法船运维等 | E23: 省级防汛块石保管
A24: 贾汪区 | D24: 水行政执法等
A25: 丰县 | B25: 地下水超采综合治理 | C25: 1个水效提升项目 | D25: 水行政执法等
A26: 沛县 | B26: 地下水超采综合治理 | D26: 水行政执法，建造执法船等 | E26: 省级防汛块石保管
A27: 睢宁县 | D27: 水行政执法等 | E27: 庆安水库旱限水位核定；省级防汛块石保管
A28: 邳州市 | D28: 水行政执法，执法船运维等 | E28: 骆马湖周边排涝降渍补助；省级防汛块石保管
A29: 新沂市 | D29: 水行政执法，建设执法基地，建造执法船等 | E29: 阿湖水库泄洪闸下游连接段水毁修复；骆马湖周边排涝降渍补助；省级防汛块石保管
A30: 常州市
A31: 常州市本级 | B31: 水资源管理与保护工作 | C31: 节水管理， 节水产业园工作 | D31: 水行政执法和长江采砂管理，购置执法装备，执法船运维等（含长江大队）等 | E31: 省级防汛块石及砼块保管
A32: 金坛区 | C32: 1个水效提升项目 | D32: 水行政执法等 | E32: 省级防汛块石保管
A33: 武进区 | B33: 母亲河复苏行动 | D33: 水行政执法等
A34: 新北区
A35: 天宁区 | C35: 1个水效提升项目
A36: 钟楼区
A37: 溧阳市 | B37: 地热水更新能力调查与分析 | D37: 水行政执法，建造执法船等
A38: 苏州市
A39: 苏州市本级 | B39: 水资源管理与保护工作 | C39: 节水管理， 3个水效提升项目 | E39: 直塘站警戒水位、保证水位核定
A40: 吴江区 | C40: 3个水效提升项目
...

Sheet 附件3-1-1
A1: 附件3-1-1
A2: 2026年省级水利建设和发展专项资金（第一批水利发展）明细表 (农村水利与水土保持)
G3: 单位:万元
A4: 地 区 | B4: 小计 | C4: 农村 供水 | D4: 灌区骨干 工程维养 | E4: 农村生 态河道 | F4: 墉坝除 险加固 | G4: 水土 保持
A6: 合 计 | B6: =SUM(C6:G6) -> 38520 | C6: =SUM(C7,C106) -> 5842 | D6: =SUM(D7,D106) -> 9013 | E6: =SUM(E7,E106) -> 10558 | F6: =SUM(F7,F106) -> 4022 | G6: =SUM(G7,G106) -> 9085
A7: 市县小计 | B7: =SUM(C7:G7) -> 36961 | C7: =SUM(C8,C16,C22,C33,C40,C48,C55,C63,C71,C81,C88,C93,C100) -> 5842 | D7: =SUM(D8,D16,D22,D33,D40,D48,D55,D63,D71,D81,D88,D93,D100) -> 8807 | E7: =SUM(E8,E16,E22,E33,E40,E48,E55,E63,E71,E81,E88,E93,E100) -> 10000 | F7: =SUM(F8,F16,F22,F33,F40,F48,F55,F63,F71,F81,F88,F93,F100) -> 4022 | G7: =SUM(G8,G16,G22,G33,G40,G48,G55,G63,G71,G81,G88,G93,G100) -> 8290
A8: 南京市 | B8: =SUM(C8:G8) -> 4702 | C8: =SUM(C9:C15) -> 628 | D8: =SUM(D9:D15) -> 537 | E8: =SUM(E9:E15) -> 387 | F8: =SUM(F9:F15) -> 2370 | G8: =SUM(G9:G15) -> 780
A9: 江宁区 | B9: =SUM(C9:G9) -> 535 | C9: 30 | D9: 105 | E9: 115 | F9: =SUM('附件3-1-2'!H8:H9) -> 285
A10: 浦口区 | B10: =SUM(C10:G10) -> 310 | C10: 242 | D10: 51 | E10: 17
A11: 六合区 | B11: =SUM(C11:G11) -> 2182 | C11: 350 | D11: 214 | E11: 23 | F11: =SUM('附件3-1-2'!H10:H17) -> 1115 | G11: =SUM('附件3-1-3'!I7) -> 480
A12: 溧水区 | B12: =SUM(C12:G12) -> 1134 | D12: 75 | E12: 38 | F12: =SUM('附件3-1-2'!H18:H21) -> 721 | G12: =SUM('附件3-1-3'!I8) -> 300
A13: 高淳区 | B13: =SUM(C13:G13) -> 530 | C13: 6 | D13: 81 | E13: 194 | F13: =SUM('附件3-1-2'!H22:H23) -> 249
A14: 栖霞区 | B14: =SUM(C14:G14) -> 0
A15: 江北新区 | B15: =SUM(C15:G15) -> 11 | D15: 11
A16: 无锡市 | B16: =SUM(C16:G16) -> 649 | C16: =SUM(C17:C21) -> 0 | D16: =SUM(D17:D21) -> 90 | E16: =SUM(E17:E21) -> 149 | G16: =SUM(G17:G21) -> 410
A17: 锡山区 | B17: =SUM(C17:G17) -> 41 | D17: 27 | E17: 14
A18: 惠山区 | B18: =SUM(C18:G18) -> 226 | D18: 15 | E18: 11 | G18: =SUM('附件3-1-3'!I9) -> 200
A19: 滨湖区 | B19: =SUM(C19:G19) -> 3 | E19: 3
A20: 江阴市 | B20: =SUM(C20:G20) -> 266 | D20: 48 | E20: 8 | G20: =SUM('附件3-1-3'!I10) -> 210
A21: 宜兴市 | B21: =SUM(C21:G21) -> 113 | E21: 113
A22: 徐州市 | B22: =SUM(C22:G22) -> 4182 | C22: =SUM(C23:C32) -> 522 | D22: =SUM(D23:D32) -> 1514 | E22: =SUM(E23:E32) -> 1436 | F22: =SUM(F23:F32) -> 150 | G22: =SUM(G23:G32) -> 560
A23: 市本级 | B23: =SUM(C23:G23) -> 20 | D23: 20
A24: 云龙区 | B24: =SUM(C24:G24) -> 7 | D24: 7
A25: 经开区 | B25: =SUM(C25:G25) -> 32 | D25: 32
A26: 铜山区 | B26: =SUM(C26:G26) -> 421 | D26: 258 | E26: 163
A27: 贾汪区 | B27: =SUM(C27:G27) -> 155 | C27: 1 | D27: 94 | E27: 60
A28: 丰县 | B28: =SUM(C28:G28) -> 359 | D28: 205 | E28: 154
A29: 沛县 | B29: =SUM(C29:G29) -> 426 | D29: 225 | E29: 201
A30: 睢宁县 | B30: =SUM(C30:G30) -> 766 | C30: 301 | D30: 204 | E30: 261
A31: 邳州市 | B31: =SUM(C31:G31) -> 1139 | D31: 261 | E31: 318 | G31: =SUM('附件3-1-3'!I11) -> 560
A32: 新沂市 | B32: =SUM(C32:G32) -> 857 | C32: 220 | D32: 208 | E32: 279 | F32: =SUM('附件3-1-2'!H24) -> 150
A33: 常州市 | B33: =SUM(C33:G33) -> 992 | C33: =SUM(C34:C39) -> 100 | D33: =SUM(D34:D39) -> 37 | E33: =SUM(E34:E39) -> 372 | F33: =SUM(F34:F39) -> 183 | G33: =SUM(G34:G39) -> 300
A34: 金坛区 | B34: =SUM(C34:G34) -> 149 | D34: 4 | E34: 145
A35: 武进区 | B35: =SUM(C35:G35) -> 62 | E35: 62
A36: 新北区 | B36: =SUM(C36:G36) -> 36 | E36: 36
A37: 天宁区 | B37: =SUM(C37:G37) -> 0
A38: 钟楼区 | B38: =SUM(C38:G38) -> 0
A39: 溧阳市 | B39: =SUM(C39:G39) -> 745 | C39: 100 | D39: 33 | E39: 129 | F39: =SUM('附件3-1-2'!H25) -> 183 | G39: =SUM('附件3-1-3'!I12) -> 300
A40: 苏州市 | B40: =SUM(C40:G40) -> 1172 | C40: =SUM(C41:C47) -> 165 | D40: =SUM(D41:D47) -> 15 | E40: =SUM(E41:E47) -> 392 | G40: =SUM(G41:G47) -> 600
A41: 吴江区 | B41: =SUM(C41:G41) -> 55 | C41: 15 | E41: 40
...

Sheet 附件3-1-2
A1: 附件3-1-2
A2: 2026年省级水利建设和发展专项资金（第一批水利发展）明细表 (塘坝除险加固)
H4: 单位：万元
A5: 序号 | B5: 地区 | C5: 塘坝名称 | D5: 总投资 | E5: 2026年投资计划 | H5: 本次下达 省级资金
E6: 合计 | F6: 省级 资金 | G6: 市县
A7: 合计 | D7: =SUM(D8:D32) -> 7894 | E7: =SUM(F7:G7) -> 7367 | F7: =SUM(F8:F32) -> 4022 | G7: =SUM(G8:G32) -> 3345 | H7: =SUM(H8:H32) -> 4022
A8: 1 | B8: 南京市江宁区 | C8: 祁家边大塘 | D8: 297 | E8: =SUM(F8:G8) -> 297 | F8: 149 | G8: 148 | H8: 149
A9: 2 | B9: 南京市江宁区 | C9: 西龙大塘 | D9: 272 | E9: =SUM(F9:G9) -> 272 | F9: 136 | G9: 136 | H9: 136
A10: 3 | B10: 南京市六合区 | C10: 王营大塘 | D10: 479 | E10: =SUM(F10:G10) -> 479 | F10: 240 | G10: 239 | H10: 240
A11: 4 | B11: 南京市六合区 | C11: 王洼大塘 | D11: 220 | E11: =SUM(F11:G11) -> 220 | F11: 110 | G11: 110 | H11: 110
A12: 5 | B12: 南京市六合区 | C12: 马洼大塘 | D12: 354 | E12: =SUM(F12:G12) -> 354 | F12: 177 | G12: 177 | H12: 177
A13: 6 | B13: 南京市六合区 | C13: 洪营大塘 | D13: 281 | E13: =SUM(F13:G13) -> 281 | F13: 141 | G13: 140 | H13: 141
A14: 7 | B14: 南京市六合区 | C14: 双塘 | D14: 181 | E14: =SUM(F14:G14) -> 181 | F14: 91 | G14: 90 | H14: 91
A15: 8 | B15: 南京市六合区 | C15: 钱洼大塘 | D15: 262 | E15: =SUM(F15:G15) -> 262 | F15: 131 | G15: 131 | H15: 131
A16: 9 | B16: 南京市六合区 | C16: 大楼大塘 | D16: 282 | E16: =SUM(F16:G16) -> 282 | F16: 141 | G16: 141 | H16: 141
A17: 10 | B17: 南京市六合区 | C17: 五山洼大塘 | D17: 167 | E17: =SUM(F17:G17) -> 167 | F17: 84 | G17: 83 | H17: 84
A18: 11 | B18: 南京市溧水区 | C18: 熊家塘 | D18: 406 | E18: =SUM(F18:G18) -> 406 | F18: 203 | G18: 203 | H18: 203
A19: 12 | B19: 南京市溧水区 | C19: 王家大塘 | D19: 355 | E19: =SUM(F19:G19) -> 355 | F19: 178 | G19: 177 | H19: 178
... A23: 16 | B23: 南京市高淳区 | C23: 上旺大坝 | D23: 278 | E23: =SUM(F23:G23) -> 278 | F23: 139 | G23: 139 | H23: 139
A24: 17 | B24: 徐州市新沂区 | C24: 乱王塘坝 | D24: 391 | E24: 214 | F24: 150 | G24: 64 | H24: 150
A25: 18 | B25: 常州市溧阳市 | C25: 陈家山塘坝 | D25: 365 | E25: =SUM(F25:G25) -> 365 | F25: 183 | G25: 182 | H25: 183
A26: 19 | B26: 连云港市赣榆区 | C26: 横山官庄塘坝 | D26: 415 | E26: =SUM(F26:G26) -> 415 | F26: 249 | G26: 166 | H26: 249
A27: 20 | B27: 连云港市赣榆区 | C27: 葫芦岭（35#）塘坝 | D27: 648 | E27: =SUM(F27:G27) -> 648 | F27: 389 | G27: 259 | H27: 389
A28: 21 | B28: 连云港市东海县 | C28: 场西塘坝 | D28: 332 | E28: 214 | F28: 150 | G28: 64 | H28: 150
A29: 22 | B29: 淮安市盱眙县 | C29: 陆港大坝 | D29: 391 | E29: 240 | F29: 168 | G29: 72 | H29: 168
A30: 23 | B30: 淮安市盱眙县 | C30: 张北小坝 | D30: 188 | E30: 188 | F30: 132 | G30: 56 | H30: 132
A31: 24 | B31: 镇江市句容市 | C31: 土窑塘 | D31: 135 | E31: =SUM(F31:G31) -> 135 | F31: 81 | G31: 54 | H31: 81
A32: 25 | B32: 宿迁市泗洪县 | C32: 夏南塘 | D32: 295 | E32: 214 | F32: 150 | G32: 64 | H32: 150

Sheet 附件3-1-3
A1: 附件3-1-3
A2: 2026年省级水利建设和发展专项资金（第一批水利发展）明细表 (水土保持重点工程)
H3: 单位：万元
A4: 序号 | B4: 市别 | C4: 项目县 | D4: 水土流失 治理面积（km2） | E4: 计划投资 | I4: 本次下达省级资金
E5: 小计 | F5: 中央 | G5: 省级 | H5: 市县
A6: 合 计 | D6: =SUM(D7:D30) -> 42 | E6: =SUM(E7:E30) -> 15800 | F6: =SUM(F7:F30) -> 670 | G6: =SUM(G7:G30) -> 8290 | H6: =SUM(H7:H30) -> 6840 | I6: =SUM(I7:I31) -> 9085
A7: 1 | B7: 南京市 | C7: 六合区 | D7: 3.2 | E7: =SUM(F7:H7) -> 1200 | F7: 120 | G7: 480 | H7: 600 | I7: =G7 -> 480
A8: 2 | C8: 溧水区 | D8: 1.6 | E8: =SUM(F8:H8) -> 600 | G8: 300 | H8: 300 | I8: =G8 -> 300
A9: 3 | B9: 无锡市 | C9: 惠山区 | D9: 1.6 | E9: =SUM(F9:H9) -> 600 | F9: 100 | G9: 200 | H9: 300 | I9: =G9 -> 200
A10: 4 | C10: 江阴市 | D10: 1.6 | E10: =SUM(F10:H10) -> 600 | F10: 90 | G10: 210 | H10: 300 | I10: =G10 -> 210
A11: 5 | B11: 徐州市 | C11: 邳州市 | D11: 2.1 | E11: =SUM(F11:H11) -> 800 | G11: 560 | H11: 240 | I11: =G11 -> 560
A12: 6 | B12: 常州市 | C12: 溧阳市 | D12: 2.9 | E12: =SUM(F12:H12) -> 1000 | F12: 200 | G12: 300 | H12: 500 | I12: =G12 -> 300
A13: 7 | B13: 苏州市 | C13: 常熟市 | D13: 1.6 | E13: =SUM(F13:H13) -> 600 | G13: 300 | H13: 300 | I13: =G13 -> 300
A14: 8 | C14: 太仓市 | D14: 1.6 | E14: =SUM(F14:H14) -> 600 | G14: 300 | H14: 300 | I14: =G14 -> 300
A15: 9 | B15: 南通市 | C15: 通州区 | D15: 1.6 | E15: =SUM(F15:H15) -> 600 | G15: 300 | H15: 300 | I15: =G15 -> 300
A16: 10 | C16: 如东县 | D16: 1.6 | E16: =SUM(F16:H16) -> 600 | G16: 360 | H16: 240 | I16: =G16 -> 360
A17: 11 | B17: 连云港市 | C17: 云台山景区 | D17: 1.6 | E17: =SUM(F17:H17) -> 600 | G17: 360 | H17: 240 | I17: =G17 -> 360
A18: 12 | C18: 赣榆区 | D18: 1.6 | E18: =SUM(F18:H18) -> 600 | G18: 360 | H18: 240 | I18: =G18 -> 360
A19: 13 | B19: 淮安市 | C19: 淮阴区 | D19: 1.6 | E19: =SUM(F19:H19) -> 600 | G19: 360 | H19: 240 | I19: =G19 -> 360
A20: 14 | C20: 盱眙县 | D20: 1.6 | E20: =SUM(F20:H20) -> 600 | G20: 420 | H20: 180 | I20: =G20 -> 420
A21: 15 | B21: 盐城市 | C21: 亭湖区 | D21: 1.6 | E21: =SUM(F21:H21) -> 600 | G21: 300 | H21: 300 | I21: =G21 -> 300
A22: 16 | C22: 东台市 | D22: 1.6 | E22: =SUM(F22:H22) -> 600 | G22: 360 | H22: 240 | I22: =G22 -> 360
A23: 17 | B23: 扬州市 | C23: 江都区 | D23: 1.6 | E23: =SUM(F23:H23) -> 600 | G23: 360 | H23: 240 | I23: =G23 -> 360
A24: 18 | C24: 邗江区 | D24: 1.6 | E24: =SUM(F24:H24) -> 600 | F24: 80 | G24: 280 | H24: 240 | I24: =G24 -> 280
A25: 19 | B25: 镇江市 | C25: 丹阳市 | D25: 1.6 | E25: =SUM(F25:H25) -> 600 | G25: 360 | H25: 240 | I25: =G25 -> 360
A26: 20 | B26: 泰州市 | C26: 海陵区 | D26: 1.6 | E26: =SUM(F26:H26) -> 600 | G26: 300 | H26: 300 | I26: =G26 -> 300
A27: 21 | C27: 姜堰区 | D27: 1.8 | E27: =SUM(F27:H27) -> 800 | F27: 80 | G27: 320 | H27: 400 | I27: =G27 -> 320
A28: 22 | C28: 泰兴市 | D28: 1.6 | E28: =SUM(F28:H28) -> 600 | G28: 360 | H28: 240 | I28: =G28 -> 360
A29: 23 | B29: 宿迁市 | C29: 泗洪县 | D29: 1.6 | E29: =SUM(F29:H29) -> 600 | G29: 420 | H29: 180 | I29: =G29 -> 420
A30: 24 | C30: 泗阳县 | D30: 1.6 | E30: =SUM(F30:H30) -> 600 | G30: 420 | H30: 180 | I30: =G30 -> 420
B31: 省水文水资源勘测局 | I31: =SUM(I32:I48) -> 795
A32: 25 | B32: 局本级 | D32: 水土保持监测 | I32: 174
A33: 26 | D33: 水土保持信息化监管 | I33: 188
A34: 27 | D34: 生产建设项目水土保持方案和重点工程实施方案现场查勘 | I34: 53
A35: 28 | B35: 南京分局 | D35: 监测站点水土流失监测 | I35: 55
A36: 29 | B36: 无锡分局 | D36: 监测站点水土流失监测 | I36: 26
A37: 30 | B37: 徐州分局 | D37: 监测站点水土流失监测 | I37: 18
A38: 31 | B38: 常州分局 | D38: 监测站点水土流失监测 | I38: 52
A39: 32 | B39: 苏州分局 | D39: 监测站点水土流失监测 | I39: 32
A40: 33 | B40: 南通分局 | D40: 监测站点水土流失监测 | I40: 16
...

Sheet 附件3-2-1
A1: 附件3-2-1
A2: 2026年省级水利建设和发展专项资金（第一批水利发展）明细表 (水利工程维修养护)
F3: 单位：万元
A4: 地 区 | B4: 合计 | C4: 闸站库工程 维修养护 | D4: 小水库 管护 | E4: 安全鉴定及 消险加固 | F4: 流域性河湖堤防及穿堤建筑物维修养护
A5: 合 计 | B5: =SUM(C5:F5) -> 26528 | C5: =SUM(C6,C13,C17,C26,C31,C37,C44,C51,C60,C69,C77,C83,C88) -> 14454 | D5: =SUM(D6,D13,D17,D26,D31,D37,D44,D51,D60,D69,D77,D83,D88) -> 908 | E5: =SUM(E6,E13,E17,E26,E31,E37,E44,E51,E60,E69,E77,E83,E88) -> 6016 | F5: =SUM(F6,F13,F17,F26,F31,F37,F44,F51,F60,F69,F77,F83,F88) -> 5150
A6: 南京市 | B6: =SUM(C6:F6) -> 3523 | C6: =SUM(C7:C12) -> 1833 | D6: =SUM(D7:D12) -> 257 | E6: =SUM(E7:E12) -> 1017 | F6: =SUM(F7:F12) -> 416
A7: 南京市本级 | B7: =SUM(C7:F7) -> 440 | C7: 194 | D7: 6 | F7: 240
A8: 江宁区 | B8: =SUM(C8:F8) -> 723 | C8: 290 | D8: 85 | E8: 339 | F8: 9
A9: 浦口区 | B9: =SUM(C9:F9) -> 221 | C9: 82 | D9: 20 | E9: 97 | F9: 22
A10: 六合区 | B10: =SUM(C10:F10) -> 852 | C10: 590 | D10: 70 | E10: 97 | F10: 95
A11: 溧水区 | B11: =SUM(C11:F11) -> 1048 | C11: 478 | D11: 66 | E11: 484 | F11: 20
A12: 高淳区 | B12: =SUM(C12:F12) -> 239 | C12: 199 | D12: 10 | E12: 0 | F12: 30
A13: 无锡市 | B13: =SUM(C13:F13) -> 1089 | C13: =SUM(C14:C16) -> 839 | D13: =SUM(D14:D16) -> 16 | E13: =SUM(E14:E16) -> 81 | F13: =SUM(F14:F16) -> 153
A14: 无锡市本级 | B14: =SUM(C14:F14) -> 290 | C14: 204 | F14: 86
A15: 江阴市 | B15: =SUM(C15:F15) -> 146 | C15: 105 | F15: 41
A16: 宜兴市 | B16: =SUM(C16:F16) -> 653 | C16: 530 | D16: 16 | E16: 81 | F16: 26
A17: 徐州市 | B17: =SUM(C17:F17) -> 2641 | C17: =SUM(C18:C25) -> 1276 | D17: =SUM(D18:D25) -> 80 | E17: =SUM(E18:E25) -> 1039 | F17: =SUM(F18:F25) -> 246
A18: 徐州市本级 | B18: =SUM(C18:F18) -> 560 | C18: 505 | D18: 9 | F18: 46
A19: 铜山区 | B19: =SUM(C19:F19) -> 938 | C19: 103 | D19: 22 | E19: 813
A20: 贾汪区 | B20: =SUM(C20:F20) -> 59 | C20: 51 | D20: 8
A21: 丰县 | B21: =SUM(C21:F21) -> 55 | C21: 2 | D21: 2 | F21: 51
A22: 沛县 | B22: =SUM(C22:F22) -> 67 | C22: 36 | F22: 31
A23: 睢宁县 | B23: =SUM(C23:F23) -> 364 | C23: 84 | D23: 7 | E23: 226 | F23: 47
A24: 邳州市 | B24: =SUM(C24:F24) -> 198 | C24: 162 | D24: 5 | F24: 31
A25: 新沂市 | B25: =SUM(C25:F25) -> 400 | C25: 333 | D25: 27 | F25: 40
A26: 常州市 | B26: =SUM(C26:F26) -> 1540 | C26: =SUM(C27:C30) -> 749 | D26: =SUM(D27:D30) -> 88 | E26: =SUM(E27:E30) -> 533 | F26: =SUM(F27:F30) -> 170
A27: 常州市本级 | B27: =SUM(C27:F27) -> 311 | C27: 141 | F27: 170
A28: 金坛区 | B28: =SUM(C28:F28) -> 580 | C28: 104 | D28: 24 | E28: 452
A29: 武进区 | B29: =SUM(C29:F29) -> 144 | C29: 143 | D29: 1
A30: 溧阳市 | B30: =SUM(C30:F30) -> 505 | C30: 361 | D30: 63 | E30: 81
A31: 苏州市 | B31: =SUM(C31:F31) -> 1091 | C31: =SUM(C32:C35) -> 533 | F31: =SUM(F32:F36) -> 558
A32: 苏州市本级 | B32: =SUM(C32:F32) -> 375 | C32: 28 | F32: 347
A33: 张家港市 | B33: =SUM(C33:F33) -> 425 | C33: 337 | F33: 88
A34: 常熟市 | B34: =SUM(C34:F34) -> 148 | C34: 112 | F34: 36
A35: 太仓市 | B35: =SUM(C35:F35) -> 108 | C35: 56 | F35: 52
A36: 昆山市 | B36: =SUM(C36:F36) -> 35 | F36: 35
A37: 南通市 | B37: =SUM(C37:F37) -> 1112 | C37: =SUM(C38:C43) -> 690 | F37: =SUM(F38:F43) -> 422
A38: 南通市本级 | B38: =SUM(C38:F38) -> 411 | C38: 260 | F38: 151
A39: 海门区 | B39: =SUM(C39:F39) -> 61 | C39: 61 | F39: 0
A40: 海安市 | B40: =SUM(C40:F40) -> 90 | C40: 69 | F40: 21
...

Sheet 附件3-2-2
A1: 附件3-2-2
A2: 2026年省级水利建设和发展专项资金（第一批水利发展） 省本级明细表（水利工程维修）
C3: 单位：万元
B4: 单位 | C4: 项目名称 | D4: 金额
B5: 省级小计 | D5: =SUM(D6,D218,D221,D225,D232) -> 14194
B6: 厅属管理处小计 | D6: =SUM(D7,D40,D59,D68,D95,D107,D146,D156,D193,D203,D206,D213) -> 11886
A7: 一 | B7: 省骆运水利工程管理处 | D7: =SUM(D8:D39) -> 1580
A8: 1 | B8: 管理处本级 | C8: 全处水闸动力消耗费 | D8: 70
A9: 2 | C9: 房亭河地涵监控系统更新改造 | D9: 33
A10: 3 | C10: 房亭河地涵10kV高压设备更新改造 | D10: 24
A11: 4 | C11: 闸站电气预防性试验仪器维护维修及添置 | D11: 33
A12: 5 | B12: 省泗阳闸站管理所 | C12: 泗阳站1号机组叶轮外壳维修和叶片调节系统改造 | D12: 43
A13: 6 | C13: 泗阳站清污机局部更换维修 | D13: 31
A14: 7 | C14: 泗阳站主厂房墙面渗漏水处理及下游护坡整修 | D14: 21
A15: 8 | B15: 省刘老涧闸站管理所 | C15: 刘老涧站2号主机组大修 | D15: 32
A16: 9 | C16: 刘老涧抽水站清污机局部更换维修 | D16: 21
A17: 10 | B17: 省沙集闸站管理所 | C17: 沙集站机组循环冷却技术供水改造 | D17: 58
A18: 11 | C18: 沙集站主厂房及生产用房外墙防渗维修 | D18: 89
A19: 12 | C19: 沙集站站区防汛主干道维修 | D19: 36
A20: 13 | C20: 沙集站变电所高压开关柜改造（10台） | D20: 100
A21: 14 | C21: 沙集站4#、5#机组水泵层降噪处理 | D21: 38
A22: 15 | B22: 省皂河抽水站 | C22: 皂河站110kV变电所GIS系统维护检测 | D22: 35
A23: 16 | C23: 皂河站主变及GIS开关监测改造 | D23: 58
A24: 17 | C24: 皂河站高压开关柜改造（6台） | D24: 66
A25: 18 | C25: 皂河站低压开关柜改造 | D25: 85
A26: 19 | C26: 皂河站辅机控制系统改造 | D26: 52
A27: 20 | C27: 皂河站视频监测与AI巡检联动 | D27: 58
A28: 21 | C28: 皂河站自动控制系统整合完善 | D28: 99
A29: 22 | C29: 皂河站安全管理设施改造 | D29: 53
A30: 23 | C30: 皂河站伸缩缝监测改造 | D30: 17
A31: 24 | C31: 皂河站水平位移监测改造 | D31: 23
A32: 25 | B32: 省黄墩湖滞洪闸管理所 | C32: 黄墩湖滞洪闸测压管维修及工程安全监测预警系统建设 | D32: 65
A33: 26 | B33: 省皂河闸管理所 | C33: 皂河闸上游拦河坝及隔水堤护坡整治 | D33: 38
A34: 27 | C34: 皂河闸1号水轮机组大修及导叶更换 | D34: 27
A35: 28 | C35: 皂河闸站用变压器增容改造 | D35: 12
A36: 29 | C36: 皂河闸捞草船增设 | D36: 41
A37: 30 | B37: 省洋河滩闸管理所 | C37: 六塘河闸交通桥维修加固 | D37: 80
A38: 31 | C38: 洋河滩闸混凝土碳化处理 | D38: 82
A39: 32 | B39: 省抗旱排涝队 | C39: 抗旱排涝队设备维修 | D39: 60
A40: 二 | B40: 省淮沭新河管理处 | D40: =SUM(D41:D58) -> 1120
...

Sheet 附件3-2-3
A1: 附件3-2-3
A2: 2026年省级水利建设和发展专项资金（第一批水利发展） 省本级明细表（水利工程养护）
C3: 单位：万元
A4: 序号 | B4: 单 位 | C4: 项目名称 | D4: 金额
B5: 省级小计 | D5: =SUM(D6,D91,D93) -> 4402
A6: 一 | B6: 厅属管理处小计 | D6: =SUM(D7,D17,D28,D35,D49,D53,D64,D67,D76,D79,D82,D84) -> 3998
A7: (一) | B7: 省骆运水利工程管理处 | D7: =SUM(D8:D16) -> 557
A8: 1 | B8: 管理处本级 | C8: 房亭河地涵养护 | D8: 33
A9: 2 | B9: 省泗阳闸站管理所 | C9: 泗阳站、泗阳二站、泗阳闸养护 | D9: 105
A10: 3 | B10: 省刘老涧闸站管理所 | C10: 刘老涧站、刘老涧闸、刘老涧新闸养护 | D10: 80
A11: 4 | B11: 省沙集闸站管理所 | C11: 沙集站、沙集闸养护 | D11: 80
A12: 5 | B12: 省皂河抽水站 | C12: 皂河站、穿邳洪河地涵养护 | D12: 103
A13: 6 | B13: 省黄墩湖滞洪闸管理所 | C13: 黄墩湖滞洪闸养护 | D13: 29
A14: 7 | B14: 省皂河闸管理所 | C14: 皂河闸、新邳洪河闸、邳洪河大堤养护 | D14: 50
A15: 8 | B15: 省洋河滩闸管理所 | C15: 洋河滩闸、六塘河闸养护 | D15: 42
A16: 9 | B16: 处抗旱排涝队 | C16: 抗排机泵、防汛抢险设备养护 | D16: 35
A17: （二） | B17: 省淮沭新河管理处 | D17: =SUM(D18:D27) -> 547
A18: 1 | B18: 管理处本级 | C18: 淮阴二站 | D18: 45
A19: 2 | B19: 省二河闸管理所 | C19: 二河闸 | D19: 55
A20: 3 | B20: 省淮阴闸管理所 | C20: 淮阴闸、淮涟闸、盐河闸、淮沭闸 | D20: 94
A21: 4 | B21: 省杨庄闸管理所 | C21: 杨庄闸 | D21: 40
A22: 5 | B22: 省沭阳闸管理所 | C22: 沭阳闸、柴米地涵、柴米闸 | D22: 85
A23: 6 | B23: 省沭新闸管理所 | C23: 沭新闸、虞姬沟蓄水闸 | D23: 40
A24: 7 | B24: 省蔷薇河地涵管理所 | C24: 蔷薇河地涵、沭新退水闸、沭新北闸、桑墟水电站 | D24: 45
A25: 8 | B25: 省盐河北闸管理所 | C25: 盐河北闸 | D25: 25
A26: 9 | B26: 省善后闸管理所 | C26: 善后新闸、车轴河闸、烧香河闸 | D26: 58
A27: 10 | B27: 省新沂河海口控制工程管理所 | C27: 新沂河海口南深泓闸、北深泓闸、中深泓闸 | D27: 60
A28: （三） | B28: 省通榆河蔷薇河送清水工程管理处 | D28: =SUM(D29:D34) -> 155
A29: 1 | B29: 管理处处本级 | C29: 叮当河尾水控制闸、叮当河尾水南地涵 | D29: 16
A30: 2 | C30: 盐河尾水南地涵 | D30: 9
A31: 3 | B31: 省龙埝控制工程管理所 | C31: 龙埝套闸 | D31: 11
A32: 4 | B32: 省沭阳控制工程管理所 | C32: 沭阳尾水控制闸、沭阳尾水北地涵 | D32: 24
A33: 5 | B33: 省灌河响水地涵管理所 | C33: 响水引水闸、灌河地涵 | D33: 40
A34: 6 | B34: 省滨海抽水站管理所 | C34: 滨海抽水站 | D34: 55
A35: （四） | B35: 省灌溉总渠管理处 | D35: =SUM(D36:D48) -> 654
A36: 1 | B36: 管理处本级 | C36: 淮安一站养护 | D36: 22
A37: 2 | C37: 淮安二站养护 | D37: 70
A38: 3 | C38: 淮安抽水站变电所养护 | D38: 50
A39: 4 | C39: 运东闸养护 | D39: 35
A40: 5 | C40: 六垛南闸养护 | D40: 48
...

Sheet 附件3-3
A1: 附件3-3
A2: 2026年省级水利建设和发展专项资金（第一批水利发展）明细表(水文设施维修养护)
G3: 单位：万元
A4: 单 位 | B4: 内 容 | C4: 金额 | D4: 测验设施 | F4: 水文自动测 报系统维护 | G4: 水质自动 监测站维护
D5: 常规养护 | E5: 更新改造
A6: 合计 | C6: =SUM(D6:G6) -> 4000 | D6: =SUM(D12,D19,D23,D30,D34,D39,D43,D48,D53,D58,D63,D70,D77,D83,D85,D88,D91,D94,D97,D100,D103) -> 1377 | E6: =SUM(E12,E19,E23,E30,E34,E39,E43,E48,E53,E58,E63,E70,E77,E83,E85,E88,E91,E94,E97,E100,E103) -> 1806.8 | F6: =SUM(F12,F19,F23,F30,F34,F39,F43,F48,F53,F58,F63,F70,F77,F83,F85,F88,F91,F94,F97,F100,F103) -> 768 | G6: =SUM(G12,G19,G23,G30,G34,G39,G43,G48,G53,G58,G63,G70,G77,G83,G85,G88,G91,G94,G97,G100,G103) -> 48.2
A7: 省水 文局 | B7: 1、121处自动测流设备运维及备品备件采购 | C7: =SUM(D7:G7) -> 160 | D7: 160
B8: 2、省中心物联网专线及物联网卡通讯费 | C8: =SUM(D8:G8) -> 18 | F8: 18
B9: 3、19处分中心、963处自动测报系统站点运维 | C9: =SUM(D9:G9) -> 266 | F9: 266
B10: 4、省自动站数据平台维护和通讯传输保障管理等 | C10: =SUM(D10:G10) -> 26.2 | G10: 26.2
B11: 5、1处省中心、19处水情分中心机房设备备品备件购置 | C11: =SUM(D11:G11) -> 61 | F11: 61
B12: 小计 | C12: =SUM(D12:G12) -> 531.2 | D12: =SUM(D7:D11) -> 160 | F12: =SUM(F7:F11) -> 345 | G12: =SUM(G7:G11) -> 26.2
A13: 南京 分局 | B13: 1、7处水文缆道、30处水位自记台、25处雨量观测场、28处地下水监测井、2处墒情站、4处水质监测站、1辆水质移动监测车、1辆水质监测船日常维修养护 | C13: =SUM(D13:G13) -> 68 | D13: 68
B14: 2、1个水情分中心、239处遥测站点运维及物联网专线、194张物联网卡租用 | C14: =SUM(D14:G14) -> 99 | F14: 99
B15: 3、前垾村水文站（句）断面测流设施除险改造 | C15: =SUM(D15:G15) -> 26 | E15: 26
B16: 4、东山水位站更新改造 | C16: =SUM(D16:G16) -> 200 | E16: 200
B17: 5、南京水情分中心机房隐患整改及会商能力提升改造 | C17: =SUM(D17:G17) -> 40 | E17: 40
B18: 6、南京水土保持监测站迁建 | C18: =SUM(D18:G18) -> 120 | E18: 120
B19: 小计 | C19: =SUM(D19:G19) -> 553 | D19: =SUM(D13:D14) -> 68 | E19: =SUM(E13:E18) -> 386 | F19: =SUM(F13:F14) -> 99
A20: 无锡 分局 | B20: 1、3处水文缆道、45处水位自记台、45处雨量观测场、39处地下水监测井、1处墒情站、11处水质水量自动监测站日常维修养护 | C20: =SUM(D20:G20) -> 67 | D20: 67
B21: 2、1个水情分中心、81处遥测站点自养自修及物联网专线、131张物联网卡租用 | C21: =SUM(D21:G21) -> 13 | F21: 13
B22: 3、犊山闸水文站更新改造 | C22: =SUM(D22:G22) -> 109 | E22: 109
B23: 小计 | C23: =SUM(D23:G23) -> 189 | D23: =SUM(D20:D21) -> 67 | E23: =SUM(E20:E22) -> 109 | F23: =SUM(F20:F21) -> 13
A24: 徐州 分局 | B24: 1、29处水文缆道、97处水位自记台、29处雨量观测场、106处地下水监测井、11处墒情站日常维修养护 | C24: =SUM(D24:G24) -> 151 | D24: 151
B25: 2、1个水情分中心、170处遥测站点运维及物联网专线、304张物联网卡租用 | C25: =SUM(D25:G25) -> 72 | F25: 72
B26: 3、蔺家坝闸水文站缆道房及运河水文站安全隐患消除 | C26: =SUM(D26:G26) -> 70 | E26: 70
B27: 4、港上水文站大缆道改建工程 | C27: =SUM(D27:G27) -> 100 | E27: 100
B28: 5、汉王等7处墒情站监测能力更新提升 | C28: =SUM(D28:G28) -> 53 | E28: 53
B29: 6、港上水文站生产业务用房及附属设施改造 | C29: =SUM(D29:G29) -> 85 | E29: 85
B30: 小计 | C30: =SUM(D30:G30) -> 531 | D30: =SUM(D24:D29) -> 151 | E30: =SUM(E26:E29) -> 308 | F30: =SUM(F24:F28) -> 72
A31: 常州 分局 | B31: 1、10处水文缆道、38处水位自记台、37处雨量观测场、33处地下水监测井、4处墒情站、4处水质水量自动监测站日常维修养护 | C31: =SUM(D31:G31) -> 65 | D31: 65
B32: 2、1个水情分中心、102处遥测站点自养自修及物联网专线、83张物联网卡租用 | C32: =SUM(D32:G32) -> 16 | F32: 16
B33: 3、常州分局水情会商能力改造提升 | C33: =SUM(D33:G33) -> 58 | E33: 58
B34: 小计 | C34: =SUM(D34:G34) -> 139 | D34: =SUM(D31:D32) -> 65 | E34: =E33 -> 58 | F34: =SUM(F31:F32) -> 16
A35: 苏州 分局 | B35: 1、10处水文缆道、56处水位自记台、22处雨量观测场、59处地下水监测井、13处水质水量自动监测站日常维修养护 | C35: =SUM(D35:G35) -> 85 | D35: 85
B36: 2、1个水情分中心、54处遥测站点自养自修及物联网专线、99张物联网卡租用 | C36: =SUM(D36:G36) -> 10 | F36: 10
B37: 3、张家港闸（闸上游）水文站维修改造 | C37: =SUM(D37:G37) -> 70 | E37: 70
B38: 4、省水环境监测中心苏州分中心实验室更新改造 | C38: =SUM(D38:G38) -> 40 | E38: 40
B39: 小计 | C39: =SUM(D39:G39) -> 205 | D39: =SUM(D35:D38) -> 85 | E39: =SUM(E37:E38) -> 110 | F39: =SUM(F35:F38) -> 10
A40: 南通 分局 | B40: 1、8处水文缆道、39处水位自记台、38处雨量观测场、57处地下水监测井、东灶港海洋潮位站日常维修养护 | C40: =SUM(D40:G40) -> 66 | D40: 66
...

Sheet 附件3-4-1
A1: 附件3-4-1
A2: 2026年省级水利建设和发展专项资金（第一批水利发展）明细表 (河湖管理与保护)
F3: 单位：万元
A4: 地 区 | B4: 小计 | C4: 河湖水域岸线空间管控 | D4: 河湖水域岸线监测评估 | E4: 河湖生态治理保护 | F4: 重点湖泊治理保护
A5: 合 计 | B5: =SUM(C5:F5) -> 13300 | C5: =SUM(C6,C104) -> 2560 | D5: =SUM(D6,D104) -> 1550 | E5: =SUM(E6,E104) -> 990 | F5: =SUM(F6,F104) -> 8200
A6: 市县小计 | B6: =SUM(C6:F6) -> 9400 | C6: =SUM(C7,C15,C22,C30,C37,C46,C53,C60,C68,C78,C85,C91,C98) -> 800 | D6: =SUM(D7,D15,D22,D30,D37,D46,D53,D60,D68,D78,D85,D91,D98) -> 0 | E6: =SUM(E7,E15,E22,E30,E37,E46,E53,E60,E68,E78,E85,E91,E98) -> 400 | F6: =SUM(F7,F15,F22,F30,F37,F46,F53,F60,F68,F78,F85,F91,F98) -> 8200
A7: 南京市 | B7: =SUM(C7:F7) -> 66 | C7: =SUM(C8:C14) -> 51 | D7: =SUM(D8:D14) -> 0 | E7: =SUM(E8:E14) -> 15 | F7: =SUM(F8:F14) -> 0
A8: 南京市本级 | B8: =SUM(C8:F8) -> 25 | C8: 10 | E8: 15
A9: 江宁区 | B9: =SUM(C9:F9) -> 4 | C9: 4
A10: 浦口区 | B10: =SUM(C10:F10) -> 10 | C10: 10
A11: 六合区 | B11: =SUM(C11:F11) -> 15 | C11: 15
A12: 溧水区 | B12: =SUM(C12:F12) -> 2 | C12: 2
A13: 高淳区 | B13: =SUM(C13:F13) -> 4 | C13: 4
A14: 栖霞区 | B14: =SUM(C14:F14) -> 6 | C14: 6
A15: 无锡市 | B15: =SUM(C15:F15) -> 84 | C15: =SUM(C16:C21) -> 38 | D15: =SUM(D16:D21) -> 0 | E15: =SUM(E16:E21) -> 46 | F15: =SUM(F16:F21) -> 0
A16: 无锡市本级 | B16: =SUM(C16:F16) -> 9 | C16: 5 | E16: 4
A17: 锡山区 | B17: =SUM(C17:F17) -> 6 | C17: 1 | E17: 5
A18: 惠山区 | B18: =SUM(C18:F18) -> 11 | C18: 6 | E18: 5
A19: 滨湖区 | B19: =SUM(C19:F19) -> 14 | C19: 10 | E19: 4
A20: 江阴市 | B20: =SUM(C20:F20) -> 15 | C20: 5 | E20: 10
A21: 宜兴市 | B21: =SUM(C21:F21) -> 29 | C21: 11 | E21: 18
A22: 徐州市 | B22: =SUM(C22:F22) -> 66 | C22: =SUM(C23:C29) -> 66 | D22: =SUM(D23:D29) -> 0 | E22: =SUM(E23:E29) -> 0 | F22: =SUM(F23:F29) -> 0
A23: 铜山区 | B23: =SUM(C23:F23) -> 7 | C23: 7
A24: 贾汪区 | B24: =SUM(C24:F24) -> 7 | C24: 7
A25: 丰县 | B25: =SUM(C25:F25) -> 2 | C25: 2
A26: 沛县 | B26: =SUM(C26:F26) -> 2 | C26: 2
A27: 睢宁县 | B27: =SUM(C27:F27) -> 7 | C27: 7
A28: 邳州市 | B28: =SUM(C28:F28) -> 26 | C28: 26
A29: 新沂市 | B29: =SUM(C29:F29) -> 15 | C29: 15
A30: 常州市 | B30: =SUM(C30:F30) -> 55 | C30: =SUM(C31:C36) -> 36 | D30: =SUM(D31:D36) -> 0 | E30: =SUM(E31:E36) -> 19 | F30: =SUM(F31:F36) -> 0
A31: 金坛区 | B31: =SUM(C31:F31) -> 9 | C31: 4 | E31: 5
A32: 武进区 | B32: =SUM(C32:F32) -> 27 | C32: 22 | E32: 5
A33: 新北区 | B33: =SUM(C33:F33) -> 5 | C33: 5
A34: 天宁区 | B34: =SUM(C34:F34) -> 2 | C34: 2
A35: 钟楼区 | B35: =SUM(C35:F35) -> 2 | C35: 2
A36: 溧阳市 | B36: =SUM(C36:F36) -> 10 | C36: 1 | E36: 9
A37: 苏州市 | B37: =SUM(C37:F37) -> 147 | C37: =SUM(C38:C45) -> 103 | D37: =SUM(D38:D45) -> 0 | E37: =SUM(E38:E45) -> 44 | F37: =SUM(F38:F45) -> 0
A38: 苏州市本级 | B38: =SUM(C38:F38) -> 9 | C38: 9
A39: 吴江区 | B39: =SUM(C39:F39) -> 30 | C39: 16 | E39: 14
A40: 吴中区 | B40: =SUM(C40:F40) -> 56 | C40: 51 | E40: 5
...

Sheet 附件3-4-2
A1: 附件3-4-2
A2: 2026年省级水利建设和发展专项资金（第一批水利发展） 省本级明细表（河湖管理与保护）
C3: 单位：万元
A4: 序号 | B4: 项目名称 | C4: 本次下达 | D4: 备 注
B5: 省级合计 | C5: =SUM(C6,C8,C10,C12,C16,C18,C20,C24,C27,C29,C45,C31) -> 3900
A6: 一 | B6: 省骆运水利工程管理处 | C6: =SUM(C7:C7) -> 20
A7: 1 | B7: 骆马湖等流域性河湖监督巡查处置 | C7: =[1]资金分配明细表到项目!C116 -> 20
A8: 二 | B8: 省淮沭新河管理处 | C8: =SUM(C9:C9) -> 20
A9: 1 | B9: 流域性河道管理、监督巡查处置 | C9: =[1]资金分配明细表到项目!C127 -> 20
A10: 三 | B10: 省灌溉总渠管理处 | C10: =SUM(C11:C11) -> 20
A11: 1 | B11: 白马湖、宝应湖等流域性河湖监督巡查处置 | C11: =[1]资金分配明细表到项目!C145 -> 20
A12: 四 | B12: 省洪泽湖水利工程管理处 | C12: =SUM(C13:C15) -> 240
A13: 1 | B13: 洪泽湖等流域性河湖监督巡查处置 | C13: =[1]资金分配明细表到项目!C156 -> 140
A14: 2 | B14: 洪泽湖年度退圩还湖任务监督性测量与评估 | C14: =[1]资金分配明细表到项目!D156 -> 30
A15: 3 | B15: 国家级蓄滞洪区年度动态监测 | C15: =[1]资金分配明细表到项目!E156 -> 70
A16: 五 | B16: 省江都水利工程管理处 | C16: =SUM(C17:C17) -> 20
A17: 1 | B17: 高邮湖、邵伯湖等流域性河湖监督巡查处置 | C17: =[1]资金分配明细表到项目!C162 -> 20
A18: 六 | B18: 省秦淮河水利工程管理处 | C18: =SUM(C19) -> 20
B19: 石臼湖、固城湖、秦淮河等流域性河湖监督巡查处置 | C19: =[1]资金分配明细表到项目!C167 -> 20
A20: 七 | B20: 省太湖地区水利工程管理处 | C20: =SUM(C21:C23) -> 320
A21: 1 | B21: 太湖等流域性河湖监督巡查处置 | C21: =[1]资金分配明细表到项目!C170 -> 50
A22: 2 | B22: 太湖流域水面漂浮物视频监控 | C22: =[1]资金分配明细表到项目!O170 -> 200 | D22: 项目总金额600万元，已安排400万元。
A23: 3 | B23: 利用盐碱地等土壤改良途径解决清淤淤泥出路的技术方案编制及淤泥利用试点检测评估 | C23: =[1]资金分配明细表到项目!N170 -> 70
A24: 八 | B24: 省泰州引江河管理处 | C24: =SUM(C25:C26) -> 163
A25: 1 | B25: 里下河湖区等流域性河湖监督巡查处置 | C25: =[1]资金分配明细表到项目!C173 -> 20
A26: 2 | B26: 里下河地区重点河湖水面漂浮物视频监控 | C26: =[1]资金分配明细表到项目!P173 -> 143
A27: 九 | B27: 省灌溉动力管理一处 | C27: =C28 -> 10
A28: 1 | B28: 里下河湖区等流域性河湖监督巡查处置 | C28: =[1]资金分配明细表到项目!C174 -> 10
A29: 十 | B29: 省防汛防旱抢险中心 | C29: =SUM(C30:C30) -> 20
A30: 1 | B30: 长江岸线监督巡查处置 | C30: =[1]资金分配明细表到项目!C175 -> 20
A31: 十一 | B31: 省水文局 | C31: =SUM(C32:C44) -> 820
A32: 1 | B32: 省水文局南京分局 | C32: =[1]资金分配明细表到项目!J183 -> 60 | D32: 重点河湖健康状况监测
A33: 2 | B33: 省水文局无锡分局 | C33: =[1]资金分配明细表到项目!J184 -> 110 | D33: 重点河湖健康状况监测
A34: 3 | B34: 省水文局徐州分局 | C34: =[1]资金分配明细表到项目!J185 -> 54 | D34: 重点河湖健康状况监测
A35: 4 | B35: 省水文局常州分局 | C35: =[1]资金分配明细表到项目!J186 -> 80 | D35: 重点河湖健康状况监测
A36: 5 | B36: 省水文局苏州分局 | C36: =[1]资金分配明细表到项目!J187 -> 72 | D36: 重点河湖健康状况监测
A37: 6 | B37: 省水文局南通分局 | C37: =[1]资金分配明细表到项目!J188 -> 40 | D37: 重点河湖健康状况监测
A38: 7 | B38: 省水文局连云港分局 | C38: =[1]资金分配明细表到项目!J189 -> 42 | D38: 重点河湖健康状况监测
A39: 8 | B39: 省水文局淮安分局 | C39: =[1]资金分配明细表到项目!J190 -> 65 | D39: 重点河湖健康状况监测
A40: 9 | B40: 省水文局盐城分局 | C40: =[1]资金分配明细表到项目!J191 -> 66 | D40: 重点河湖健康状况监测
...

Sheet 附件3-5
A1: 附件3-5
A2: 2026年省级水利建设和发展专项资金 （第一批水利发展）明细表 （长江河道监测）
C3: 单位：万元
A4: 序号 | B4: 地 区 | C4: 资 金
A5: 合 计 | C5: =SUM(C6,C27) -> 1000
A6: 市县小计 | C6: =SUM(C7,C9,C13,C16,C19,C23) -> 420
A7: 一 | B7: 常州市 | C7: =SUM(C8) -> 14
A8: 1 | B8: 市本级 | C8: 14
A9: 二 | B9: 苏州市 | C9: =SUM(C10:C12) -> 105
A10: 1 | B10: 张家港市 | C10: 25
A11: 2 | B11: 常熟市 | C11: 16
A12: 3 | B12: 太仓市 | C12: 64
A13: 三 | B13: 南通市 | C13: =SUM(C14:C15) -> 56
A14: 1 | B14: 市本级 | C14: 40
A15: 2 | B15: 如皋市 | C15: 16
A16: 四 | B16: 扬州市 | C16: =SUM(C17:C18) -> 62
A17: 1 | B17: 市本级 | C17: 50
A18: 2 | B18: 仪征市 | C18: 12
A19: 五 | B19: 镇江市 | C19: =SUM(C20:C22) -> 122
A20: 1 | B20: 市本级 | C20: 58
A21: 2 | B21: 丹阳市 | C21: 5
A22: 3 | B22: 扬中市 | C22: 59
A23: 六 | B23: 泰州市 | C23: =SUM(C24:C26) -> 61
A24: 1 | B24: 市本级 | C24: 8
A25: 2 | B25: 靖江市 | C25: 43
A26: 3 | B26: 泰兴市 | C26: 10
A27: 省级小计 | C27: =SUM(C28) -> 580
A28: 一 | B28: 省河道管理局 | C28: =SUM(C29) -> 580
A29: 1 | B29: 长江干流河道固定断面水沙监测 | C29: 580

Sheet 附件3-6
A1: 附件3-6
A2: 2026年省级水利建设和发展专项资金（第一批水利发展）明细表 （水资源管理与保护）
G3: 单位：万元
A4: 地 区 | B4: 合计 | C4: 水资源 管理 | D4: 水资源 配置 | E4: 水资源 保护 | F4: 水资源 监测 | G4: 备注
A5: 合 计 | B5: =SUM(C5:F5) -> 6739 | C5: =SUM(C6,C57) -> 2033 | D5: =SUM(D6,D57) -> 305 | E5: =SUM(E6,E57) -> 1532 | F5: =SUM(F6,F57) -> 2869
A6: 市县小计 | B6: =SUM(C6:F6) -> 2640 | C6: =SUM(C7,C10,C15,C20,C24,C28,C33,C36,C39,C48,C51,C53,C55) -> 1400 | D6: =SUM(D7,D10,D15,D20,D24,D28,D33,D36,D39,D48,D51,D53,D55) -> 40 | E6: =SUM(E7,E10,E15,E20,E24,E28,E33,E36,E39,E48,E51,E53,E55) -> 1200 | F6: =SUM(F7,F10,F15,F20,F24,F28,F33,F36,F39,F48,F51,F53,F55) -> 0
A7: 南京市 | B7: =SUM(C7:F7) -> 180 | C7: =SUM(C8:C9) -> 120 | D7: =SUM(D8:D9) -> 0 | E7: =SUM(E8:E9) -> 60 | F7: =SUM(F8:F9) -> 0
A8: 南京市本级 | B8: =SUM(C8:F8) -> 170 | C8: 120 | E8: 50 | G8: 最严格水资源管理考核120万元；典型地区地下水储备制度落实10万元；秦淮区母亲河复苏行动40万元
A9: 江宁区 | B9: =SUM(C9:F9) -> 10 | E9: 10 | G9: 典型地区地下水储备制度落实10万元
A10: 无锡市 | B10: =SUM(C10:F10) -> 170 | C10: =SUM(C11:C14) -> 100 | D10: =SUM(D11:D14) -> 0 | E10: =SUM(E11:E14) -> 70 | F10: =SUM(F11:F14) -> 0
A11: 无锡市本级 | B11: =SUM(C11:F11) -> 100 | C11: 100 | G11: 最严格水资源管理考核100万元
A12: 锡山区 | B12: =SUM(C12:F12) -> 10 | E12: 10 | G12: 典型地区地下水储备制度落实10万元
A13: 江阴市 | B13: =SUM(C13:F13) -> 40 | E13: 40 | G13: 母亲河复苏行动40万元
A14: 宜兴市 | B14: =SUM(C14:F14) -> 20 | E14: 20 | G14: 典型地区地热水更新能力调查与分析试点20万元
A15: 徐州市 | B15: =SUM(C15:F15) -> 279 | C15: =SUM(C16:C19) -> 100 | D15: =SUM(D16:D19) -> 40 | E15: =SUM(E16:E19) -> 139 | F15: =SUM(F16:F19) -> 0
A16: 徐州市本级 | B16: =SUM(C16:F16) -> 180 | C16: 100 | D16: 40 | E16: 40 | G16: 最严格水资源管理考核100万元；母亲河复苏行动40万元；南四湖流域水资源配置论证40万元
A17: 铜山区 | B17: =SUM(C17:F17) -> 10 | E17: 10 | G17: 地下水超采综合治理10万元
A18: 丰县 | B18: =SUM(C18:F18) -> 50 | E18: 50 | G18: 地下水超采综合治理50万元
A19: 沛县 | B19: =SUM(C19:F19) -> 39 | E19: 39 | G19: 地下水超采综合治理39万元
A20: 常州市 | B20: =SUM(C20:F20) -> 200 | C20: =SUM(C21:C23) -> 100 | D20: =SUM(D21:D23) -> 0 | E20: =SUM(E21:E23) -> 100 | F20: =SUM(F21:F23) -> 0
A21: 常州市本级 | B21: =SUM(C21:F21) -> 100 | C21: 100 | G21: 最严格水资源管理考核100万元
A22: 武进区 | B22: =SUM(C22:F22) -> 80 | E22: 80 | G22: 母亲河复苏行动资金80万元
A23: 溧阳市 | B23: =SUM(C23:F23) -> 20 | E23: 20 | G23: 典型地区地热水更新能力调查与分析试点20万元
A24: 苏州市 | B24: =SUM(C24:F24) -> 200 | C24: =SUM(C25:C27) -> 120 | D24: =SUM(D25:D27) -> 0 | E24: =SUM(E25:E27) -> 80 | F24: =SUM(F25:F27) -> 0
A25: 苏州市本级 | B25: =SUM(C25:F25) -> 120 | C25: 120 | G25: 最严格水资源管理考核120万元
A26: 张家港市 | B26: =SUM(C26:F26) -> 20 | E26: 20 | G26: 典型地区地热水更新能力调查与分析试点20万元
A27: 常熟市 | B27: =SUM(C27:F27) -> 60 | E27: 60 | G27: 母亲河复苏行动资金40万元；典型地区地热水更新能力调查与分析试点20万元
A28: 南通市 | B28: =SUM(C28:F28) -> 237 | C28: =SUM(C29:C32) -> 100 | D28: =SUM(D29:D32) -> 0 | E28: =SUM(E29:E32) -> 137 | F28: =SUM(F29:F32) -> 0
A29: 南通市本级 | B29: =SUM(C29:F29) -> 120 | C29: 100 | E29: 20 | G29: 最严格水资源管理考核100万元；典型地区地热水更新能力调查与分析试点20万元
A30: 海安市 | B30: =SUM(C30:F30) -> 17 | E30: 17 | G30: 地下水超采综合治理17万元
A31: 如皋市 | B31: =SUM(C31:F31) -> 65 | E31: 65 | G31: 母亲河复苏行动资金40万元；地下水超采综合治理25万元
A32: 如东县 | B32: =SUM(C32:F32) -> 35 | E32: 35 | G32: 地下水超采综合治理35万元
A33: 连云港市 | B33: =SUM(C33:F33) -> 150 | C33: =SUM(C34:C35) -> 100 | D33: =SUM(D34:D35) -> 0 | E33: =SUM(E34:E35) -> 50 | F33: =SUM(F34:F35) -> 0
A34: 连云港市本级 | B34: =SUM(C34:F34) -> 140 | C34: 100 | E34: 40 | G34: 最严格水资源管理考核100万元；母亲河复苏行动资金40万元
A35: 灌云县 | B35: =SUM(C35:F35) -> 10 | E35: 10 | G35: 典型地区地下水储备制度落实10万元
A36: 淮安市 | B36: =SUM(C36:F36) -> 170 | C36: =SUM(C37:C38) -> 120 | D36: =SUM(D37:D38) -> 0 | E36: =SUM(E37:E38) -> 50 | F36: =SUM(F37:F38) -> 0
A37: 淮安市本级 | B37: =SUM(C37:F37) -> 160 | C37: 120 | E37: 40 | G37: 最严格水资源管理考核120万元；母亲河复苏行动资金40万元
A38: 清江浦区 | B38: =SUM(C38:F38) -> 10 | E38: 10 | G38: 典型地区地下水储备制度落实10万元
A39: 盐城市 | B39: =SUM(C39:F39) -> 424 | C39: =SUM(C40:C47) -> 120 | D39: =SUM(D40:D47) -> 0 | E39: =SUM(E40:E47) -> 304 | F39: =SUM(F40:F47) -> 0
A40: 盐城市本级 | B40: =SUM(C40:F40) -> 200 | C40: 120 | E40: =60+20 -> 80 | G40: 最严格水资源管理考核120万元；母亲河复苏行动资金60万元；典型地区地热水更新能力调查与分析试点20万元
...

Sheet 附件3-7
A1: 附件3-7
A2: 2026年省级水利建设和发展专项资金（第一批水利发展） 明细表(节约用水管理)
E3: 单位：万元
A4: 地 区 | B4: 小计 | C4: 水效提升 奖补 | D4: 绩效考核及节水产业园区等奖补 | E4: 备注
A5: 全省合计 | B5: =SUM(B6,B117) -> 3500 | C5: =SUM(C6) -> 2265 | D5: =SUM(D6) -> 735
A6: 市县小计 | B6: =SUM(C6:D6) -> 3000 | C6: =SUM(C7,C17,C25,C34,C41,C50,C59,C67,C76,C87,C95,C102,C110) -> 2265 | D6: =SUM(D7,D17,D25,D34,D41,D50,D59,D67,D76,D87,D95,D102,D110) -> 735
A7: 南京市 | B7: =SUM(C7:D7) -> 245 | C7: =SUM(C8:C16) -> 200 | D7: =SUM(D8:D15) -> 45
A8: 南京市本级 | B8: =SUM(C8:D8) -> 45 | D8: 45
A9: 雨花台区 | B9: =SUM(C9:D9) -> 100 | C9: 100
A10: 江宁区 | B10: =SUM(C10:D10) -> 0
A11: 浦口区 | B11: =SUM(C11:D11) -> 0
A12: 六合区 | B12: =SUM(C12:D12) -> 0
A13: 溧水区 | B13: =SUM(C13:D13) -> 0
A14: 高淳区 | B14: =SUM(C14:D14) -> 0
A15: 栖霞区 | B15: =SUM(C15:D15) -> 0
A16: 江北新区 | B16: =SUM(C16:D16) -> 100 | C16: 100
A17: 无锡市 | B17: =SUM(C17:D17) -> 360 | C17: =SUM(C18:C24) -> 220 | D17: =SUM(D18:D24) -> 140
A18: 无锡市本级 | B18: =SUM(C18:D18) -> 40 | D18: 40
A19: 新吴区 | B19: =SUM(C19:D19) -> 20 | C19: 20
A20: 锡山区 | B20: =SUM(C20:D20) -> 100 | C20: 100
A21: 惠山区 | B21: =SUM(C21:D21) -> 0
A22: 滨湖区 | B22: =SUM(C22:D22) -> 0
A23: 江阴市 | B23: =SUM(C23:D23) -> 0
A24: 宜兴市 | B24: =SUM(C24:D24) -> 200 | C24: 100 | D24: 100 | E24: 节水产业园区奖补
A25: 徐州市 | B25: =SUM(C25:D25) -> 61 | C25: =SUM(C26:C33) -> 21 | D25: =SUM(D26:D33) -> 40
A26: 徐州市本级 | B26: =SUM(C26:D26) -> 59 | C26: 19 | D26: 40
A27: 铜山区 | B27: =SUM(C27:D27) -> 0
A28: 贾汪区 | B28: =SUM(C28:D28) -> 0
A29: 丰县 | B29: =SUM(C29:D29) -> 2 | C29: 2
A30: 沛县 | B30: =SUM(C30:D30) -> 0
A31: 睢宁县 | B31: =SUM(C31:D31) -> 0
A32: 新沂市 | B32: =SUM(C32:D32) -> 0
A33: 邳州市 | B33: =SUM(C33:D33) -> 0
A34: 常州市 | B34: =SUM(C34:D34) -> 161 | C34: =SUM(C35:C40) -> 86 | D34: =SUM(D35:D40) -> 75
A35: 常州市本级 | B35: =SUM(C35:D35) -> 75 | D35: 75 | E35: 节水产业园区奖补30万元
A36: 金坛区 | B36: =SUM(C36:D36) -> 11 | C36: 11
A37: 武进区 | B37: =SUM(C37:D37) -> 0
A38: 新北区 | B38: =SUM(C38:D38) -> 0
A39: 天宁区 | B39: =SUM(C39:D39) -> 75 | C39: 75
A40: 溧阳市 | B40: =SUM(C40:D40) -> 0
...

Sheet 附件3-8-1
A1: 附件3-8-1
A2: 2026年省级水利建设和发展专项资金（第一批水利发展）明细表（河湖采砂及水行政执法管理）
I3: 单位：万元
A4: 地 区 | B4: 合计 | C4: 采砂管理及水行政执法 | G4: 执法基地 | H4: 执法船艇 | I4: 备 注
C5: 小计 | D5: 绩效奖补 | E5: 疏浚砂监管 | F5: 指定 停泊点
A6: 市县小计 | B6: =SUM(C6,G6,H6) -> 2412 | C6: =SUM(D6:F6) -> 1282 | D6: =SUM(D7,D10,D17,D30,D35,D39,D47,D53,D59,D70,D78,D86,D93) -> 1027 | E6: =SUM(E7,E10,E17,E30,E35,E39,E47,E53,E59,E70,E78,E86,E93) -> 235 | F6: =SUM(F7,F10,F17,F30,F35,F39,F47,F53,F59,F70,F78,F86,F93) -> 20 | G6: =SUM(G7,G10,G17,G30,G35,G39,G47,G53,G59,G70,G78,G86,G93) -> 410 | H6: =SUM(H7,H10,H17,H30,H35,H39,H47,H53,H59,H70,H78,H86,H93) -> 720
A7: 南京市 | B7: =SUM(C7,G7,H7) -> 217 | C7: =SUM(D7:F7) -> 47 | D7: =SUM(D8,D9) -> 42 | E7: =SUM(E8,E9) -> 0 | F7: =SUM(F8,F9) -> 5 | G7: =SUM(G8,G9) -> 120 | H7: =SUM(H8,H9) -> 50
A8: 南京市本级 | B8: =SUM(C8,G8,H8) -> 31 | C8: =SUM(D8:F8) -> 31 | D8: 31 | I8: 巡查经费水上公安5万元、长航公安南京分局20万元
A9: 江宁区 | B9: =SUM(C9,G9,H9) -> 186 | C9: =SUM(D9:F9) -> 16 | D9: 11 | F9: 5 | G9: 120 | H9: 50 | I9: 省砂管局执法船运维50万元
A10: 无锡市 | B10: =SUM(C10,G10,H10) -> 357 | C10: =SUM(D10:F10) -> 137 | D10: =SUM(D11:D16) -> 72 | E10: =SUM(E11:E16) -> 60 | F10: =SUM(F11:F16) -> 5 | G10: =SUM(G11:G16) -> 120 | H10: =SUM(H11:H16) -> 100
A11: 无锡市本级 | B11: =SUM(C11,G11,H11) -> 41 | C11: =SUM(D11:F11) -> 41 | D11: 21 | E11: 20 | F11: 0
A12: 锡山区 | B12: =SUM(C12,G12,H12) -> 11 | C12: =SUM(D12:F12) -> 11 | D12: 11
A13: 惠山区 | B13: =SUM(C13,G13,H13) -> 11 | C13: =SUM(D13:F13) -> 11 | D13: 11
A14: 滨湖区 | B14: =SUM(C14,G14,H14) -> 8 | C14: =SUM(D14:F14) -> 8 | D14: 8
A15: 江阴市 | B15: =SUM(C15,G15,H15) -> 176 | C15: =SUM(D15:F15) -> 56 | D15: 11 | E15: 40 | F15: 5 | G15: 120
A16: 宜兴市 | B16: =SUM(C16,G16,H16) -> 110 | C16: =SUM(D16:F16) -> 10 | D16: 10 | H16: 100
A17: 徐州市 | B17: =SUM(C17,G17,H17) -> 382 | C17: =SUM(D17:F17) -> 122 | D17: =SUM(D18:D29) -> 122 | E17: =SUM(E18:E29) -> 0 | F17: =SUM(F18:F29) -> 0 | G17: =SUM(G18:G29) -> 170 | H17: =SUM(H18:H29) -> 90
A18: 徐州市本级 | B18: =SUM(C18,G18,H18) -> 91 | C18: =SUM(D18:F18) -> 21 | D18: 21 | G18: 70
A19: 铜山区 | B19: =SUM(C19,G19,H19) -> 13 | C19: =SUM(D19:F19) -> 8 | D19: 8 | H19: 5
A20: 贾汪区 | B20: =SUM(C20,G20,H20) -> 10 | C20: =SUM(D20:F20) -> 10 | D20: 10
A21: 鼓楼区 | B21: =SUM(C21,G21,H21) -> 11 | C21: =SUM(D21:F21) -> 11 | D21: 11
A22: 云龙区 | B22: =SUM(C22,G22,H22) -> 11 | C22: =SUM(D22:F22) -> 11 | D22: 11
A23: 泉山区 | B23: =SUM(C23,G23,H23) -> 81 | C23: =SUM(D23:F23) -> 11 | D23: 11 | G23: 70
A24: 开发区 | B24: =SUM(C24,G24,H24) -> 8 | C24: =SUM(D24:F24) -> 8 | D24: 8
A25: 丰 县 | B25: =SUM(C25,G25,H25) -> 8 | C25: =SUM(D25:F25) -> 8 | D25: 8
A26: 沛 县 | B26: =SUM(C26,G26,H26) -> 48 | C26: =SUM(D26:F26) -> 8 | D26: 8 | H26: 40
A27: 睢宁县 | B27: =SUM(C27,G27,H27) -> 8 | C27: =SUM(D27:F27) -> 8 | D27: 8
A28: 邳州市 | B28: =SUM(C28,G28,H28) -> 15 | C28: =SUM(D28:F28) -> 10 | D28: 10 | H28: 5
A29: 新沂市 | B29: =SUM(C29,G29,H29) -> 78 | C29: =SUM(D29:F29) -> 8 | D29: 8 | G29: 30 | H29: 40
A30: 常州市 | B30: =SUM(C30,G30,H30) -> 92 | C30: =SUM(D30:F30) -> 52 | D30: =SUM(D31:D34) -> 52 | E30: =SUM(E31:E34) -> 0 | F30: =SUM(F31:F34) -> 0 | G30: =SUM(G31:G34) -> 0 | H30: =SUM(H31:H34) -> 40
A31: 常州市本级 | B31: =SUM(C31,G31,H31) -> 21 | C31: =SUM(D31:F31) -> 21 | D31: 21
A32: 金坛区 | B32: =SUM(C32,G32,H32) -> 10 | C32: =SUM(D32:F32) -> 10 | D32: 10
A33: 武进区 | B33: =SUM(C33,G33,H33) -> 11 | C33: =SUM(D33:F33) -> 11 | D33: 11
A34: 溧阳市 | B34: =SUM(C34,G34,H34) -> 50 | C34: =SUM(D34:F34) -> 10 | D34: 10 | H34: 40
A35: 苏州市 | B35: =SUM(C35,G35,H35) -> 37 | C35: =SUM(D35:F35) -> 37 | D35: =SUM(D36:D38) -> 37 | E35: =SUM(E36:E38) -> 0 | F35: =SUM(F36:F38) -> 0 | G35: =SUM(G36:G38) -> 0 | H35: =SUM(H36:H38) -> 0
A36: 张家港市 | B36: =SUM(C36,G36,H36) -> 21 | C36: =SUM(D36:F36) -> 21 | D36: 21 | I36: 巡查经费长航公安苏州分局10万元
A37: 常熟市 | B37: =SUM(C37,G37,H37) -> 8 | C37: =SUM(D37:F37) -> 8 | D37: 8
A38: 太仓市 | B38: =SUM(C38,G38,H38) -> 8 | C38: =SUM(D38:F38) -> 8 | D38: 8
A39: 南通市 | B39: =SUM(C39,G39,H39) -> 321 | C39: =SUM(D39:F39) -> 181 | D39: =SUM(D40:D46) -> 136 | E39: =SUM(E40:E46) -> 45 | F39: =SUM(F40:F46) -> 0 | G39: =SUM(G40:G46) -> 0 | H39: =SUM(H40:H46) -> 140
A40: 南通市本级 | B40: =SUM(C40,G40,H40) -> 171 | C40: =SUM(D40:F40) -> 101 | D40: 81 | E40: 20 | H40: 70 | I40: 巡查经费长航公安分局10万元、基数含执法装备50万元
...

Sheet 附件3-8-2
A1: 附件3-8-2
A2: 2026年省级水利建设和发展专项资金（第一批水利发展） 省本级项目明细表（河湖采砂及水行政执法管理）
B3: 单位：万元
A4: 单位 | B4: 项目内容 | C4: 补助 资金
B5: 总计 | C5: =C6+C9 -> 588
A6: 政策法规处 | B6: 小 计 | C6: =SUM(C7:C8) -> 17
B7: 水行政许可、执法案卷评查 | C7: 6
B8: 《江苏省水土保持条例》立法后评估 | C8: 11
A9: 厅属有关单位 | B9: 小 计 | C9: =SUM(C10:C22) -> 571
A10: 骆运水利工程管理处 | B10: 水行政执法 | C10: 13
A11: 淮沭新河管理处 | B11: 水行政执法 | C11: 10
A12: 灌溉总渠管理处 | B12: 水行政执法 | C12: 10
A13: 洪泽湖水利工程管理处 | B13: 水行政执法 | C13: 33
A14: 江都水利工程管理处 | B14: 水行政执法 | C14: 10
A15: 秦淮河水利工程管理处 | B15: 水行政执法 | C15: 15
A16: 太湖地区水利工程管理处 | B16: 水行政执法、新建船艇 | C16: 200
A17: 泰州引江河管理处 | B17: 水行政执法 | C17: 10
A18: 省水利科学研究院 | B18: 水行政许可事中事后监管技术支撑 | C18: 50
B19: 河湖“清四乱”常态化规范化技术支撑 | C19: 50
B20: 编制全省水事案例和水行政执法年报 | C20: 20
B21: 长江工程类（疏浚砂综合利用）采砂项目监管检测及后评估 | C21: 120
B22: 长江、洪泽湖、骆马湖重点水域采砂管理无人机监控及季度巡江技术支撑 | C22: 30

Sheet 附件3-9
A1: 附件3-9
A2: 2026年省级水利建设和发展专项资金（第一批水利发展）明细表 （水旱灾害防御）
F3: 单位：万元
A4: 序号 | B4: 单位 | C4: 项目名称 | D4: 防汛应急度汛费 | E4: 排涝降渍补助 | F4: 防汛物资管理增储费 | G4: 合计
B5: 全省合计 | D5: =SUM(D6,D117) -> 4045 | E5: =SUM(E6,E117) -> 1615 | F5: =SUM(F6,F117) -> 857 | G5: =SUM(D5:F5) -> 6517
A6: 一 | B6: 市县小计 | D6: =SUM(D7,D17,D21,D32,D35,D39,D48,D57,D72,D81,D93,D101,D106) -> 2301 | E6: =SUM(E7,E17,E21,E32,E35,E39,E48,E57,E72,E81,E93,E101,E106) -> 1615 | F6: =SUM(F7,F17,F21,F32,F35,F39,F48,F57,F72,F81,F93,F101,F106) -> 141 | G6: =SUM(D6:F6) -> 4057
A7: （一） | B7: 南京市 | D7: =SUM(D8:D16) -> 359 | E7: =SUM(E8:E16) -> 0 | F7: =SUM(F8:F16) -> 18 | G7: =SUM(D7:F7) -> 377
A8: 1 | B8: 市本级 | C8: 外秦淮河左岸扫帚巷段堤防消险工程补助 | D8: 150 | G8: =SUM(D8:F8) -> 150
A9: 2 | B9: 市本级 | C9: 全省特大暴雨城市防洪避险预案修编审查 | D9: 20 | G9: =SUM(D9:F9) -> 20
A10: 3 | B10: 市本级 | C10: 省级防汛块石保管 | F10: 13 | G10: =SUM(D10:F10) -> 13
A11: 4 | B11: 江宁区 | C11: 句容河赤山桥上游右岸堤防消险工程补助 | D11: 150 | G11: =SUM(D11:F11) -> 150
A12: 5 | B12: 浦口区 | C12: 全省小型水库防汛抢险应急预案修编审查 | D12: 19 | G12: =SUM(D12:F12) -> 19
A13: 6 | B13: 溧水区 | C13: 省级防汛块石保管 | F13: 2 | G13: =SUM(D13:F13) -> 2
A14: 7 | B14: 溧水区 | C14: 方便水库、中山水库旱限水位核定 | D14: 20 | G14: =SUM(D14:F14) -> 20
A15: 8 | B15: 高淳区 | C15: 省级防汛块石及砼块保管 | F15: 2 | G15: =SUM(D15:F15) -> 2
A16: 9 | B16: 栖霞区 | C16: 省级防汛块石及砼块保管 | F16: 1 | G16: =SUM(D16:F16) -> 1
A17: （二） | B17: 无锡市 | D17: =SUM(D18:D20) -> 25 | E17: =SUM(E18:E20) -> 0 | F17: =SUM(F18:F20) -> 4 | G17: =SUM(D17:F17) -> 29
A18: 1 | B18: 江阴市 | C18: 省级防汛块石保管 | F18: 4 | G18: =SUM(D18:F18) -> 4
A19: 2 | B19: 宜兴市 | C19: 油车水库旱限水位核定 | D19: 10 | G19: =SUM(D19:F19) -> 10
A20: 3 | B20: 宜兴市 | C20: 全省大中型水库防汛抢险应急预案修编审查 | D20: 15 | G20: =SUM(D20:F20) -> 15
A21: （三） | B21: 徐州市 | D21: =SUM(D22:D31) -> 160 | E21: =SUM(E22:E31) -> 1170 | F21: =SUM(F22:F31) -> 19 | G21: =SUM(D21:F21) -> 1349
A22: 1 | B22: 市本级 | C22: 省级水旱灾害防御物资管理及防汛块石保管 | F22: 4 | G22: =SUM(D22:F22) -> 4
A23: 2 | B23: 铜山区 | C23: 省级防汛块石保管 | F23: 4 | G23: =SUM(D23:F23) -> 4
A24: 3 | B24: 沛 县 | C24: 省级防汛块石保管 | F24: 2 | G24: =SUM(D24:F24) -> 2
A25: 4 | B25: 睢宁县 | C25: 庆安水库旱限水位核定 | D25: 10 | G25: =SUM(D25:F25) -> 10
A26: 5 | B26: 睢宁县 | C26: 省级防汛块石保管 | F26: 2 | G26: =SUM(D26:F26) -> 2
A27: 6 | B27: 邳州市 | C27: 骆马湖周边排涝降渍补助 | E27: 724 | G27: =SUM(D27:F27) -> 724
A28: 7 | B28: 邳州市 | C28: 省级防汛块石保管 | F28: 2 | G28: =SUM(D28:F28) -> 2
A29: 8 | B29: 新沂市 | C29: 阿湖水库泄洪闸下游连接段水毁修复 | D29: 150 | G29: =SUM(D29:F29) -> 150
A30: 9 | B30: 新沂市 | C30: 骆马湖周边排涝降渍补助 | E30: 446 | G30: =SUM(D30:F30) -> 446
A31: 10 | B31: 新沂市 | C31: 省级防汛块石保管 | F31: 5 | G31: =SUM(D31:F31) -> 5
A32: （四） | B32: 常州市 | F32: =SUM(F33:F34) -> 2 | G32: =SUM(D32:F32) -> 2
A33: 1 | B33: 市本级 | C33: 省级防汛块石及砼块保管 | F33: 1 | G33: =SUM(D33:F33) -> 1
A34: 2 | B34: 金坛区 | C34: 省级防汛块石保管 | F34: 1 | G34: =SUM(D34:F34) -> 1
A35: （五） | B35: 苏州市 | D35: =SUM(D36:D38) -> 110 | E35: =SUM(E36:E38) -> 0 | F35: =SUM(F36:F38) -> 1 | G35: =SUM(D35:F35) -> 111
A36: 1 | B36: 市本级 | C36: 直塘站警戒水位、保证水位核定 | D36: 10 | G36: =SUM(D36:F36) -> 10
A37: 2 | B37: 常熟市 | C37: 徐六泾枢纽下游长江侧水下冲刷应急处理 | D37: 100 | G37: =SUM(D37:F37) -> 100
A38: 3 | B38: 太仓市 | C38: 省级防汛块石保管 | F38: 1 | G38: =SUM(D38:F38) -> 1
A39: （六） | B39: 南通市 | D39: =SUM(D40:D47) -> 160 | E39: =SUM(E40:E47) -> 0 | F39: =SUM(F40:F47) -> 15 | G39: =SUM(D39:F39) -> 175
A40: 1 | B40: 市本级 | C40: 长江新通海沙围堤上游排水闸段近岸抛石处理 | D40: 150 | G40: =SUM(D40:F40) -> 150
...

Sheet 附件3-10
A1: 附件3-10
A2: 2026年省级水利建设和发展专项资金（第一批水利发展）明细表 （南水北调水费奖补）
E3: 单位：万元
A4: 序号 | B4: 地 区 | D4: 各单位实际上缴额 | E4: 本次下达资金
A5: 全省合计 | D5: =SUM(D6,D16,D28,D40,D47,D51) -> 35100 | E5: =SUM(E6,E16,E28,E40,E47,E51) -> 10548
A6: 一、徐州市 | D6: =SUM(D8:D15) -> 9900 | E6: =SUM(E8:E15) -> 2973
B7: 市 本 级 | C7: 市本级小计 | D7: =SUM(D8:D10) -> 3024.24 | E7: 908
A8: 1 | C8: 市区 | D8: 752.07 | E8: 226
A9: 2 | C9: 铜山区 | D9: 1773.07 | E9: 532
A10: 3 | C10: 贾汪区 | D10: 499.1 | E10: 150
A11: 4 | B11: 丰县 | D11: 1011.88 | E11: 304
A12: 5 | B12: 沛县 | D12: 1337.78 | E12: 402
A13: 6 | B13: 睢宁县 | D13: 1369.68 | E13: 411
A14: 7 | B14: 邳州市 | D14: 1583.91 | E14: 476
A15: 8 | B15: 新沂市 | D15: 1572.51 | E15: 472
A16: 二、连云港市 | D16: =SUM(D18:D27) -> 6600 | E16: =SUM(E18:E27) -> 1985
B17: 市 本 级 | C17: 市本级小计 | D17: =SUM(D18:D24) -> 2821 | E17: =SUM(E18:E24) -> 850
A18: 9 | C18: 海州区 | D18: 884 | E18: 266
A19: 10 | C19: 连云区 | D19: 110 | E19: 33
A20: 11 | C20: 开发区 | D20: 198 | E20: 60
A21: 12 | C21: 徐圩新区 | D21: 364 | E21: 110
A22: 13 | C22: 云台山景区 | D22: 63 | E22: 19
A23: 14 | C23: 高新区 | D23: 104 | E23: 32
A24: 15 | C24: 赣榆区 | D24: 1098 | E24: 330
A25: 16 | B25: 东海县 | D25: 1612 | E25: 484
A26: 17 | B26: 灌云县 | D26: 1202 | E26: 361
A27: 18 | B27: 灌南县 | D27: 965 | E27: 290
A28: 三、淮安市 | D28: =SUM(D30:D39) -> 6500 | E28: =SUM(E30:E39) -> 1955
B29: 市 本 级 | C29: 市本级小计 | D29: =SUM(D30:D36) -> 3630 | E29: =SUM(E30:E36) -> 1093
A30: 19 | C30: 清江浦区 | D30: 293 | E30: 88
A31: 20 | C31: 淮安经济技术开发区 | D31: 338 | E31: 102
A32: 21 | C32: 淮安工业园区 | D32: 377.6 | E32: 115
A33: 22 | C33: 淮安生态文旅区 | D33: 105 | E33: 32
A34: 23 | B34: 市 本 级 | C34: 淮阴区 | D34: 787 | E34: 237
A35: 24 | C35: 淮安区 | D35: 1149.4 | E35: 345
A36: 25 | C36: 洪泽区 | D36: 580 | E36: 174
A37: 26 | B37: 涟水县 | D37: 1142 | E37: 343
A38: 27 | B38: 金湖县 | D38: 668 | E38: 201
A39: 28 | B39: 盱眙县 | D39: 1060 | E39: 318
A40: 四、盐城市 | D40: =SUM(D42:D46) -> 1600 | E40: =SUM(E42:E46) -> 483
...
